BEGIN:VCALENDAR
VERSION:2.0
PRODID:-//ChamberMaster//Event Calendar 2.0//EN
METHOD:PUBLISH
X-PUBLISHED-TTL:P3D
REFRESH-INTERVAL:P3D
CALSCALE:GREGORIAN
BEGIN:VEVENT
DTSTART:20161129T233000Z
DTEND:20161130T010000Z
X-MICROSOFT-CDO-ALLDAYEVENT:FALSE
SUMMARY:DIY Winter Wreath Class
DESCRIPTION:Join us for a DIY Winter Wreath Class on Tuesday\, November 29 from 5:30 pm to 7 pm. Create a festive winter wreath for your front door with the assistance of our professional designers using the colors and accents of your choice. \n\n\n\nCost to attend is $50 and all your materials are included. Please RSVP by November 25 at 5 pm. To purchase your ticket\, give us a call at 515-276-4951 and we'll take good care of you.
X-ALT-DESC;FMTTYPE=text/html:<span style="color:rgb(75\, 79\, 86)\; font-family:san francisco\,-apple-system\,blinkmacsystemfont\,.sfnstext-regular\,sans-serif\; font-size:14px">Join us for a DIY Winter Wreath Class on Tuesday\, November 29 from 5:30 pm to 7 pm. Create a festive winter wreath for your front door with the assistance of our professional designers using the colors and accents of your choice.&nbsp\;</span><br />\n<br />\n<span style="color:rgb(75\, 79\, 86)\; font-family:san francisco\,-apple-system\,blinkmacsystemfont\,.sfnstext-regular\,sans-serif\; font-size:14px">Cost to attend is $50 and all your materials are included. Please RSVP by November 25 at 5 pm. To purchase your ticket\, give us a call at 515-276-4951 and we&#39\;ll take good care of you.</span>
LOCATION:Plaza Florist & Gifts 6656 Douglas Ave\, Urbandale\, IA 50322
UID:e.1185.4942
SEQUENCE:3
DTSTAMP:20260421T050655Z
URL:http://getaquote-mobile.uniquelyurbandale.com/events/details/diy-winter-wreath-class-4942
END:VEVENT

END:VCALENDAR
