BEGIN:VCALENDAR
VERSION:2.0
PRODID:-//ChamberMaster//Event Calendar 2.0//EN
METHOD:PUBLISH
X-PUBLISHED-TTL:P3D
REFRESH-INTERVAL:P3D
CALSCALE:GREGORIAN
BEGIN:VEVENT
DTSTART:20170503T223000Z
DTEND:20170503T233000Z
X-MICROSOFT-CDO-ALLDAYEVENT:FALSE
SUMMARY:DIY Spring Container Garden Class
DESCRIPTION:Join us on Wednesday\, May 3 for a Spring Container Garden Class from 5:30 to 6:30 pm to work with the pros at Plaza Florist to design a fresh\, spring patio garden that spices up your front porch. Cost to attend is $70 and materials are included.\n\n\n\nIn order for us to make the experience as easy as possible\, please call us at 515-276-4951 to register and pay for your spot by 5:30 pm\, Friday April 28.
X-ALT-DESC;FMTTYPE=text/html:<span style="color:rgb(75\, 79\, 86)\; font-family:san francisco\,-apple-system\,system-ui\,.sfnstext-regular\,sans-serif\; font-size:14px">Join us on Wednesday\, May 3 for a Spring Container Garden Class from 5:30 to 6:30 pm to work with the pros at Plaza Florist to design a fresh\, spring patio garden that spices up your front porch. Cost to attend is $70 and materials are included.</span><br />\n<br />\n<span style="color:rgb(75\, 79\, 86)\; font-family:san francisco\,-apple-system\,system-ui\,.sfnstext-regular\,sans-serif\; font-size:14px">In order for us to make the experience as easy as possible\, please call us at 515-276-4951 to register and pay for your spot by 5:30 pm\, Friday April 28.</span>
LOCATION:Plaza Florist & Gifts 6656 Douglas Ave Urbandale\, IA 50322
UID:e.1185.5152
SEQUENCE:3
DTSTAMP:20260421T120016Z
URL:http://getaquote-mobile.uniquelyurbandale.com/events/details/diy-spring-container-garden-class-5152
END:VEVENT

END:VCALENDAR
