BEGIN:VCALENDAR
VERSION:2.0
PRODID:-//ChamberMaster//Event Calendar 2.0//EN
METHOD:PUBLISH
X-PUBLISHED-TTL:P3D
REFRESH-INTERVAL:P3D
CALSCALE:GREGORIAN
BEGIN:VEVENT
DTSTART:20160728T163000Z
DTEND:20160728T173000Z
X-MICROSOFT-CDO-ALLDAYEVENT:FALSE
SUMMARY:Discover the Possibilities Lunch & Learn
DESCRIPTION:Join us for a free lunch\, and learn how Mosaic in Central Iowa creates lives of possibilities for adults with intellectual disabilities in our community. You will hear stories told by the people who know Mosaic best the people we serve\, their families and volunteers.\n\nThese one-hour presentations open our doors in an attempt to share our mission\, vision\, and passion for those being served\, and lunch is on us!\n\nTo reserve your spot\, contact Brittney Ledford at brittney.ledford@mosaicinfo.org or 515.868.0623.
X-ALT-DESC;FMTTYPE=text/html:<p>Join us for a free lunch\, and learn how Mosaic in Central Iowa creates lives of possibilities for adults with intellectual&nbsp\;disabilities in our community. You will hear stories told by the people who know Mosaic best&mdash\;the people we serve\, their families and volunteers.</p>\n\n<p>These one-hour&nbsp\;presentations open our doors in an attempt to share our mission\, vision\, and passion for those being served\, and lunch is on us!</p>\n\n<p>To reserve your spot\, contact Brittney Ledford at <a class="spamspan" href="mailto:brittney.ledford@mosaicinfo.org">brittney.ledford@mosaicinfo.org</a> or 515.868.0623.</p>\n
LOCATION:11141 Aurora Ave. Urbandale\, IA 50322
UID:e.1185.4848
SEQUENCE:3
DTSTAMP:20260420T212249Z
URL:http://getaquote-mobile.uniquelyurbandale.com/events/details/discover-the-possibilities-lunch-learn-07-28-2016-4848
END:VEVENT

END:VCALENDAR
