BEGIN:VCALENDAR
VERSION:2.0
PRODID:-//ChamberMaster//Event Calendar 2.0//EN
METHOD:PUBLISH
X-PUBLISHED-TTL:P3D
REFRESH-INTERVAL:P3D
CALSCALE:GREGORIAN
BEGIN:VEVENT
DTSTART;VALUE=DATE:20170622
DTEND;VALUE=DATE:20170623
TRANSP:TRANSPARENT
X-MICROSOFT-CDO-ALLDAYEVENT:TRUE
SUMMARY:Digital Dialogue Social Media Marketing Symposiums 2 Events 8:30 a.m. & 1 p.m.
DESCRIPTION:We Invite You to a Digital Dialogue Social Media Symposium\n\nBusiness communications have radically changed in regard to word of mouth being the norm\, to fingers & thumbs via social media. Then it is used as a personal search engine with more security of purchase because of the social referral.\n\nCommSmart Global Group\, a LexisNexis Risk Solutions Partner has been in the world of communications since its inception in its various forms and entities for some forty years.  Law enforcement was our forte at our beginning and still is\, utilized for the protection of individuals from terrorism and cyber concerns a priority.  These both use solid information and data collection at the highest and ethical level.\n\nOh\, how times have changed!  Today social media is a key facet of business and some of you have turned your back on this revolutionary communication tool because you don't understand it.  Just like when you went from a 'flip phone' to a 'Smartphone'\, which is really not just a phone\, it is a powerful computer with access to all securely.  In the right hands when coached and mentored on the cause and effect of modern day communications it is a solidly used marketing tool.\n\nWe have been coaching and mentoring our clients in all aspects of analytics\, predictive analysis and importantly social media interaction\, which I point you to right now.\n\nIt is our capabilities within our management team and leadership that have proven our expertise in sharing our strengths\, one of which is in the marketing field of social media.  Communications is vital in this day and age and that is why we hold our symposiums throughout the year.  Introducing you to all aspects of social interaction and cyber security of your important information.\n\nI refer you to the following: \n\nClick to view\n\nDigital Dialogue Symposium Overview  http://www.commsmart-global.com/book-now.html \n\nPlus accompanying video\n\nAs members of the Urbandale Chamber\, we wish to work with you all to secure the success of your community businesses and those of the Des Moines corridor.  As an individual business\, we are all wanting success with our marketing and cyber skills which must enhance all nuances of change.  To some\, technology or something\, you are limited to the understanding of\, you resist\, you must not\, we shall lower the technology barrier and introduce a marketing capability and understanding that is here now and used successfully globally by so many we have coached and mentored.\n\nJoin us on June 22nd\, 2017 for either the morning or afternoon symposium which is a true powerful conversational coaching and mentoring event.\n\nPlease call as soon as possible as there is limited seating.\n\nNormally $129 and available for this symposium at $99\n\n\n\nHoliday Inn\, Mercy Campus\, Des Moines\, IA\n\n \n\nCall (515) 300.6130 or \n\nEmail: symposium@commsmartglobalgroup.com\n\nIt is productivity personified!\n\nWE ARE IN THE NOW AND KEEP YOU\; IN THE KNOW
X-ALT-DESC;FMTTYPE=text/html:<strong><span style="font-family:verdana\,sans-serif"><span style="font-size:14.0pt">We Invite You to a Digital Dialogue Social Media Symposium</span></span></strong><br />\n<span style="font-family:verdana\,sans-serif"><span style="font-size:12.0pt">Business communications have radically changed in regard to <em>word of mouth</em> being the norm\, to <em>fingers &amp\; thumbs</em> via social media. Then it is used as a personal search engine with more security of purchase because of the social referral.</span></span><br />\n<strong><em><span style="font-family:verdana\,sans-serif"><span style="font-size:12.0pt">CommSmart Global Group\, a LexisNexis Risk Solutions Partner</span></span></em></strong><span style="font-family:verdana\,sans-serif"><span style="font-size:12.0pt"> has been in the world of communications since its inception in its various forms and entities for some forty years.&nbsp\; Law enforcement was our forte at our beginning and still is\, utilized for the protection of individuals from terrorism and cyber concerns a priority.&nbsp\; These both use solid information and data collection at the highest and ethical level.</span></span><br />\n<strong><em><span style="font-family:verdana\,sans-serif"><span style="font-size:12.0pt">Oh\, how times have changed!</span></span></em></strong><span style="font-family:verdana\,sans-serif"><span style="font-size:12.0pt">&nbsp\; Today social media is a key facet of business and some of you have turned your back on this revolutionary communication tool because you don&rsquo\;t understand it.&nbsp\; Just like when you went from a &lsquo\;flip phone&rsquo\; to a &lsquo\;Smartphone&rsquo\;\, which is really <em>not</em> just a phone\, it is a powerful computer with access to all securely.&nbsp\; In the right hands when coached and mentored on the cause and effect of modern day communications it is a solidly used marketing tool.</span></span><br />\n<span style="font-family:verdana\,sans-serif"><span style="font-size:12.0pt">We have been coaching and mentoring our clients in all aspects of <em>analytics\, predictive analysis</em> and importantly <strong><em>social media interaction</em></strong>\, which I point you to right now.</span></span><br />\n<span style="font-family:verdana\,sans-serif"><span style="font-size:12.0pt">It is our capabilities within our management team and leadership that have proven our expertise in sharing our strengths\, one of which is in the marketing field of social media.&nbsp\; Communications is vital in this day and age and that is why we hold our symposiums throughout the year.&nbsp\; Introducing you to all aspects of social interaction and cyber security of your important information.</span></span><br />\n<span style="font-family:verdana\,sans-serif"><span style="font-size:12.0pt">I refer you to the following: </span></span><br />\n<span style="font-family:verdana\,sans-serif"><span style="font-size:12.0pt">Click to view</span></span><br />\n<span style="font-family:verdana\,sans-serif"><span style="font-size:12.0pt"><a href="http://www.commsmart-global.com/book-now.html">Digital Dialogue Symposium Overview</a>&nbsp\;&nbsp\;</span></span><strong>http://www.commsmart-global.com/book-now.html </strong><br />\n<span style="font-family:verdana\,sans-serif"><span style="font-size:12.0pt"><a href="https://youtu.be/ctlYW-9Opy4">Plus accompanying video</a></span></span><br />\n<span style="font-family:verdana\,sans-serif"><span style="font-size:12.0pt">As members of the Urbandale Chamber\, we wish to work with you all to secure the success of your community businesses and those of the Des Moines corridor.&nbsp\; As an individual business\, we are all wanting success with our marketing and cyber skills which must enhance all nuances of change.&nbsp\; To some\, technology or something\, you are limited to the understanding of\, you resist\, you must not\, we shall lower the technology barrier and introduce a marketing capability and understanding that is here now and used successfully globally by so many we have coached and mentored.</span></span><br />\n<span style="font-family:verdana\,sans-serif"><span style="font-size:12.0pt">Join us on <strong>June 22<sup>nd</sup>\, 2017</strong> for either the morning or afternoon symposium which is a true powerful conversational coaching and mentoring event.</span></span><br />\n<span style="font-family:verdana\,sans-serif"><span style="font-size:12.0pt">Please call as soon as possible as there is <em>limited seating</em>.</span></span><br />\n<span style="font-family:verdana\,sans-serif"><span style="font-size:12.0pt">Normally $129 and available for this symposium at <strong>$99</strong></span></span><br />\n<br />\n<strong><span style="font-family:verdana\,sans-serif"><span style="font-size:12.0pt">Holiday Inn\, Mercy Campus\, Des Moines\, IA</span></span></strong><br />\n&nbsp\;<br />\n<span style="font-family:verdana\,sans-serif"><span style="font-size:12.0pt">Call <strong>(515) 300.6130</strong> or </span></span><br />\n<span style="font-family:verdana\,sans-serif"><span style="font-size:12.0pt">Email<strong>: <a href="mailto:symposium@commsmartglobalgroup.com">symposium@commsmartglobalgroup.com</a></strong></span></span><br />\n<strong><em><span style="font-family:verdana\,sans-serif"><span style="font-size:12.0pt">It is productivity personified!</span></span></em></strong><br />\n<span style="color:#00B050"><span style="font-family:kg blank space solid"><span style="font-size:16.0pt">WE ARE IN THE NOW AND KEEP YOU\; IN THE KNOW&hellip\;</span></span></span>
LOCATION:Holiday Inn\, Mercy Campus\, Des Moines\, IA 3-star hotel 4.9 mi Address: 1050 6th Ave\, Des Moines\, IA 50314
UID:e.1185.6567
SEQUENCE:3
DTSTAMP:20260421T132613Z
URL:http://getaquote-mobile.uniquelyurbandale.com/events/details/digital-dialogue-social-media-marketing-symposiums-2-events-8-30-a-m-1-p-m-6567
END:VEVENT

END:VCALENDAR
