BEGIN:VCALENDAR
VERSION:2.0
PRODID:-//ChamberMaster//Event Calendar 2.0//EN
METHOD:PUBLISH
X-PUBLISHED-TTL:P3D
REFRESH-INTERVAL:P3D
CALSCALE:GREGORIAN
BEGIN:VEVENT
DTSTART:20161012T170000Z
DTEND:20161012T180000Z
X-MICROSOFT-CDO-ALLDAYEVENT:FALSE
SUMMARY:Destination nowhere - a look at how you got where you currently are
DESCRIPTION:As a business owner how do you run your day to day financial operations? In my experience it starts with the owner checking their bank accounts and then making a decision based upon what the bank account says that you can do. We want to provide you with an alternative way that can allow your business to grow and succeed. Join us for a discussion on budgets and financial statements. How to use them\, why you should be getting them\, and answering all the questions you've always wanted to ask but thought they were too stupid to ask.
X-ALT-DESC;FMTTYPE=text/html:As a business owner how do you run your day to day financial operations? In my experience it starts with the owner checking their bank accounts and then making a decision based upon what the bank account says that you can do. We want to provide you with an alternative way that can allow your business to grow and succeed. Join us for a discussion on budgets and financial statements. How to use them\, why you should be getting them\, and answering all the questions you&#39\;ve always wanted to ask but thought they were too stupid to ask.
LOCATION:Webinar
UID:e.1185.4877
SEQUENCE:3
DTSTAMP:20260421T035146Z
URL:http://getaquote-mobile.uniquelyurbandale.com/events/details/destination-nowhere-a-look-at-how-you-got-where-you-currently-are-10-12-2016-4877
END:VEVENT

END:VCALENDAR
