BEGIN:VCALENDAR
VERSION:2.0
PRODID:-//ChamberMaster//Event Calendar 2.0//EN
METHOD:PUBLISH
X-PUBLISHED-TTL:P3D
REFRESH-INTERVAL:P3D
CALSCALE:GREGORIAN
BEGIN:VEVENT
DTSTART:20220217T223000Z
DTEND:20220218T003000Z
X-MICROSOFT-CDO-ALLDAYEVENT:FALSE
SUMMARY:Design2Build - Ribbon Cutting & Open House
DESCRIPTION:Celebrate Design2Build's new design studio as they host their Open House and Ribbon Cutting in Urbandale on 104th St! We offer full service design\, construction and furniture/furnishings for commercial and residential remodels and new construction.
X-ALT-DESC;FMTTYPE=text/html:<span style="font-size:14px\;"><span style="font-family:tahoma\;">Celebrate Design2Build&#39\;s new design studio as they host their Open House and Ribbon Cutting in Urbandale on 104th St!&nbsp\;We offer full service design\, construction and furniture/furnishings for commercial and residential remodels and new construction.</span></span><br />\n<br />\n&nbsp\;
LOCATION:2771 104th St.\, Ste. F Urbandale\, IA 50322
UID:e.1185.12224
SEQUENCE:3
DTSTAMP:20260425T014035Z
URL:http://getaquote-mobile.uniquelyurbandale.com/events/details/design2build-ribbon-cutting-open-house-12224
END:VEVENT

END:VCALENDAR
