BEGIN:VCALENDAR
VERSION:2.0
PRODID:-//ChamberMaster//Event Calendar 2.0//EN
METHOD:PUBLISH
X-PUBLISHED-TTL:P3D
REFRESH-INTERVAL:P3D
CALSCALE:GREGORIAN
BEGIN:VEVENT
DTSTART:20160204T230000Z
DTEND:20160205T010000Z
X-MICROSOFT-CDO-ALLDAYEVENT:FALSE
SUMMARY:Des Moines Embassy Club Unveiling Party with Champagne Toast
DESCRIPTION:The Des Moines Embassy Club has been a cornerstone of the Des Moines community for more than a century. It is now time to marry the historical and modern flair of both the Downtown and West Des Moines clubhouses into one crisp\, clear new logo. Please join us for a celebration to unveil the new look! While most of our events are Members-only\, this particular event is open to the entire community. On behalf of our Board of Directors\, we hope you will join us. The unveiling party will take place at our Downtown clubhouse on the 34th floor of the Ruan Center. ***PRE-REGISTRATION IS REQUIRED. PLEASE REGISTER HERE: https://midwestix.securemytix.com/event/unveiling-party-with-champ
X-ALT-DESC;FMTTYPE=text/html:The Des Moines Embassy Club has been a cornerstone of the Des Moines community for more than a century. It is now time to marry the historical and modern flair of both the Downtown and West Des Moines clubhouses into one crisp\, clear new logo. Please join us for a celebration to unveil the new look! While most of our events are Members-only\, this particular event is open to the entire community. On behalf of our Board of Directors\, we hope you will join us. The unveiling party will take place at our Downtown clubhouse on the 34th floor of the Ruan Center. ***PRE-REGISTRATION IS REQUIRED. PLEASE REGISTER HERE: https://midwestix.securemytix.com/event/unveiling-party-with-champ
LOCATION:Des Moines Embassy Club - Downtown Ruan Center 7th & Grand Avenue\, 34th Floor Des Moines\, IA 50309
UID:e.1185.4680
SEQUENCE:3
DTSTAMP:20260420T140341Z
URL:http://getaquote-mobile.uniquelyurbandale.com/events/details/des-moines-embassy-club-unveiling-party-with-champagne-toast-02-04-2016-4680
END:VEVENT

END:VCALENDAR
