BEGIN:VCALENDAR
VERSION:2.0
PRODID:-//ChamberMaster//Event Calendar 2.0//EN
METHOD:PUBLISH
X-PUBLISHED-TTL:P3D
REFRESH-INTERVAL:P3D
CALSCALE:GREGORIAN
BEGIN:VEVENT
DTSTART;VALUE=DATE:20190404
DTEND;VALUE=DATE:20190407
TRANSP:TRANSPARENT
X-MICROSOFT-CDO-ALLDAYEVENT:TRUE
SUMMARY:Des Moines Christian Theatre presents The Wizard of Oz
DESCRIPTION:Des Moines Christian School Theatre Department presents: The Wizard of Oz Join Dorothy\, Toto\, and their friends for the always-classic tale of a girl from Kansas who embarks on an unforgettable adventure. Thursday\, April 4 at 6:30 pm Friday\, April 5 at 6:30 pm Saturday\, April 6 at 4:00 pm (note earlier time!) Tickets $10 adult/$5 student. Purchase online at link!
X-ALT-DESC;FMTTYPE=text/html:Des Moines Christian School Theatre Department presents: The Wizard of Oz Join Dorothy\, Toto\, and their friends for the always-classic tale of a girl from Kansas who embarks on an unforgettable adventure. Thursday\, April 4 at 6:30 pm Friday\, April 5 at 6:30 pm Saturday\, April 6 at 4:00 pm (note earlier time!) Tickets $10 adult/$5 student. Purchase online at link!
LOCATION:Des Moines Christian School
UID:e.1185.9959
SEQUENCE:3
DTSTAMP:20260422T220246Z
URL:http://getaquote-mobile.uniquelyurbandale.com/events/details/des-moines-christian-theatre-presents-the-wizard-of-oz-9959
END:VEVENT

END:VCALENDAR
