BEGIN:VCALENDAR
VERSION:2.0
PRODID:-//ChamberMaster//Event Calendar 2.0//EN
METHOD:PUBLISH
X-PUBLISHED-TTL:P3D
REFRESH-INTERVAL:P3D
CALSCALE:GREGORIAN
BEGIN:VEVENT
DTSTART:20190222T000000Z
DTEND:20190222T020000Z
X-MICROSOFT-CDO-ALLDAYEVENT:FALSE
SUMMARY:Defending Retirement Seminar
DESCRIPTION:This seminar will provide an overview and explanation of Long Term Care Insurance and the benefits that is provides.  It also goes over in detail the specific coverages and costs associated  with it.   If you are facing retirement\, this is a vital component of your estate plan.
X-ALT-DESC;FMTTYPE=text/html:This seminar will provide an overview and explanation of Long Term Care Insurance and&nbsp\;the benefits that is provides.&nbsp\; It also goes over in detail the specific coverages and costs associated&nbsp\; with it.&nbsp\;&nbsp\; If you are facing retirement\, this is a vital component of your estate plan.&nbsp\;
LOCATION:Iowa Machine Shed Dinner will be served. Please call Mary Ann Tayloe at 515-727-1624 to reserve a seat. Seating will be limited.
UID:e.1185.9683
SEQUENCE:3
DTSTAMP:20260422T184828Z
URL:http://getaquote-mobile.uniquelyurbandale.com/events/details/defending-retirement-seminar-9683
END:VEVENT

END:VCALENDAR
