BEGIN:VCALENDAR
VERSION:2.0
PRODID:-//ChamberMaster//Event Calendar 2.0//EN
METHOD:PUBLISH
X-PUBLISHED-TTL:P3D
REFRESH-INTERVAL:P3D
CALSCALE:GREGORIAN
BEGIN:VEVENT
DTSTART:20160717T230000Z
DTEND:20160722T012000Z
X-MICROSOFT-CDO-ALLDAYEVENT:FALSE
SUMMARY:Deep Sea Discovery - Vacation Bible School 2016
DESCRIPTION:Hey Kids! Urbandale Baptist Church is inviting kids ages 4 years old through completing 6th grade to dive deep with us at our "Deep Sea Discovery Vacation Bible School" being held Sunday evening July 17\, through\, Thursday evening\, July 21\, 2016. At "Deep Sea Discovery" kids will make crafts\, learn moral Bible lessons\, play games\, win prizes\, sing songs\, do activity sheets\, participate in a penny war\, watch a live drama\, and much more!
X-ALT-DESC;FMTTYPE=text/html:Hey Kids! Urbandale Baptist Church is inviting kids ages 4 years old through completing 6th grade to dive deep with us at our &ldquo\;Deep Sea Discovery Vacation Bible School&rdquo\; being held Sunday evening July 17\, through\, Thursday evening\, July 21\, 2016. At &ldquo\;Deep Sea Discovery&rdquo\; kids will make crafts\, learn moral Bible lessons\, play games\, win prizes\, sing songs\, do activity sheets\, participate in a penny war\, watch a live drama\, and much more!
LOCATION:Urbandale Baptist Church 6501 Aurora Avenue Urbandale\, Iowa
UID:e.1185.4807
SEQUENCE:3
DTSTAMP:20260420T225937Z
URL:http://getaquote-mobile.uniquelyurbandale.com/events/details/deep-sea-discovery-vacation-bible-school-2016-07-17-2016-4807
END:VEVENT

END:VCALENDAR
