BEGIN:VCALENDAR
VERSION:2.0
PRODID:-//ChamberMaster//Event Calendar 2.0//EN
METHOD:PUBLISH
X-PUBLISHED-TTL:P3D
REFRESH-INTERVAL:P3D
CALSCALE:GREGORIAN
BEGIN:VEVENT
DTSTART:20160528T140000Z
DTEND:20160528T210000Z
X-MICROSOFT-CDO-ALLDAYEVENT:FALSE
SUMMARY:Decoration Day
DESCRIPTION:Be a part of America?s early Memorial Day traditions! At 1:00 pm\, March in a procession to the town cemetery for a moving pageant of Victorian ceremony and speeches\, honoring the Union?s fallen heroes. After the ceremony\, watch the Walnut Hill Bluestockings compete in a 1870s-rules baseball game at 1:30pm.
X-ALT-DESC;FMTTYPE=text/html:Be a part of America?s early Memorial Day traditions! At 1:00 pm\, March in a procession to the town cemetery for a moving pageant of Victorian ceremony and speeches\, honoring the Union?s fallen heroes. After the ceremony\, watch the Walnut Hill Bluestockings compete in a 1870s-rules baseball game at 1:30pm.
LOCATION:Living History Farms 11121 Hickman Road Urbandale\, IA 50322
UID:e.1185.4691
SEQUENCE:3
DTSTAMP:20260420T183047Z
URL:http://getaquote-mobile.uniquelyurbandale.com/events/details/decoration-day-05-28-2016-4691
END:VEVENT

END:VCALENDAR
