BEGIN:VCALENDAR
VERSION:2.0
PRODID:-//ChamberMaster//Event Calendar 2.0//EN
METHOD:PUBLISH
X-PUBLISHED-TTL:P3D
REFRESH-INTERVAL:P3D
CALSCALE:GREGORIAN
BEGIN:VEVENT
DTSTART;VALUE=DATE:20181127
DTEND;VALUE=DATE:20181129
TRANSP:TRANSPARENT
X-MICROSOFT-CDO-ALLDAYEVENT:TRUE
SUMMARY:#CultureALL #GivingTuesday Challenge
DESCRIPTION:Does the world seem a little bit colder these days? Not the weather. The way people are treating each other.  \n\n \n\nAre you exhausted by all the hate?  Do you wish we could all just be a little kinder to each other?\n\n \n\nLet's make a start.\n\n \n\nNovember 27   the Tuesday after Thanksgiving   is #GivingTuesday .  It's a day where people around the world come together to give back to the communities and causes they care about most.\n\n \n\nThis year\, rather than asking you to give money on #GivingTuesday\, CultureALL is asking you to give something that is both easier to give\, and infinitely more valuable: Yourself   by doing one simple thing:\n\n \n\nInclude Someone.\n\n \n\nOn #GivingTuesday   wherever you are   take a moment to look around you and identify someone who is different from you.  It may be someone from a different race\, culture\, or age group. Someone with a different gender identity. Someone with a disability. It may be someone from the office\, a parent at your child's school\, or a total stranger.\n\n \n\nWhen you find that person\, reach into your heart and:\n\n	Include them in your smile\n	Include them in a conversation\n	Include them at your table at lunch\n	Include them in a random act of kindness\n	Include them by asking them to tell you their story.\n\nThen   with whatever social media you use   help us flood everyone's newsfeed with positive messages on #GivingTuesday.  Post an "Unselfie." Tell people what you did.  Tell them how great it made you feel.  Tell people about a time when you felt included   and what it meant to you.   \n\n\n\nYou can also share what your family\, your company\, your school\, your church\, or your organization is doing every day to make your community more inclusive.  \n\n \n\nWherever you share your story\, challenge your friends to join you and #IncludeSomeone on #GivingTuesday. And if they can't do that\, challenge them to make a contribution to help CultureALL provide education programs that bring people together to talk\, listen\, learn\, and collaborate in building a communities where everyone is valued.\n\n \n\nUse these hashtags to help amplify the message: #GivingTuesday #IncludeSomeone #CultureALL.\n\n \n\nMake a #GivingTuesday Challenge Pledge\n\nIf you're feeling generous\, there's one more thang you can do.  Make a pledge to include CultureALL in your charitable giving.  You don't have to give now\, or even on #GivingTuesday. But if you care about diversity and want to support CultureALL's work in the community\, please consider making a pledge to give before the end or 2018 or even next year.\n\n \n\nMake your pledge at: https://cultureall.org/donate/take-the-givingtuesday-2018-pledge/\n\n \n\nLearn more about the #GivingTuesday Challenge on our website at: https://cultureall.org/take-our-givingtuesday-challenge/\n\n \n\nJoin our virtual event on Facebook: https://www.facebook.com/events/175825690027724/\n\n \n\nInclude Someone.  Let's flood the world   and the virtual world   with love and kindness. \n\n \n\nWe're all in this together.
X-ALT-DESC;FMTTYPE=text/html:<span style="font-family:tahoma"><span style="font-size:14px">Does the world seem a little bit colder these days? Not the weather. The way people are treating each other.&nbsp\;&nbsp\;<br />\n&nbsp\;<br />\nAre you exhausted by all the hate?&nbsp\;&nbsp\;Do you wish we could all just be a little kinder to each other?<br />\n&nbsp\;<br />\nLet&rsquo\;s make a start.<br />\n&nbsp\;<br />\n<strong>November 27 &ndash\; the Tuesday after Thanksgiving &ndash\; is #GivingTuesday .</strong>&nbsp\;&nbsp\;It&rsquo\;s a day where people around the world come together to give back to the communities and causes they care about most.<br />\n&nbsp\;<br />\nThis year\, rather than asking you to give money on <strong>#GivingTuesday\, </strong>CultureALL is asking you to give something that is both easier to give\, and infinitely more valuable: <strong>Yourself </strong>&ndash\; by doing one simple thing:<br />\n&nbsp\;<br />\n<strong>Include Someone.</strong><br />\n&nbsp\;<br />\nOn <strong>#GivingTuesday</strong> &ndash\; wherever you are &ndash\; take a moment to look around you and identify someone who is different from you.&nbsp\;&nbsp\;It may be someone from a different race\, culture\, or age group. Someone with a different gender identity. Someone with a disability. It may be someone from the office\, a parent at your child&rsquo\;s school\, or a total stranger.<br />\n&nbsp\;<br />\nWhen you find that person\, reach into your heart and:</span></span>\n<ul>\n	<li><span style="font-family:tahoma"><span style="font-size:14px">Include them in your smile</span></span></li>\n	<li><span style="font-family:tahoma"><span style="font-size:14px">Include them in a conversation</span></span></li>\n	<li><span style="font-family:tahoma"><span style="font-size:14px">Include them at your table at lunch</span></span></li>\n	<li><span style="font-family:tahoma"><span style="font-size:14px">Include them in a random act of kindness</span></span></li>\n	<li><span style="font-family:tahoma"><span style="font-size:14px">Include them by asking them to tell you their story.</span></span></li>\n</ul>\n<span style="font-family:tahoma"><span style="font-size:14px">Then &ndash\; with whatever social media you use &ndash\; <strong>help us flood everyone&rsquo\;s newsfeed with positive messages on #GivingTuesday</strong>.&nbsp\;&nbsp\;Post an &ldquo\;Unselfie.&rdquo\; Tell people what you did.&nbsp\;&nbsp\;Tell them how great it made you feel.&nbsp\;&nbsp\;Tell people about a time when you felt included &ndash\; and what it meant to you.&nbsp\;&nbsp\;&nbsp\;<br />\n<br />\nYou can also share what your family\, your company\, your school\, your church\, or your organization is doing every day to make your community more inclusive.&nbsp\;&nbsp\;<br />\n&nbsp\;<br />\n<span style="color:rgb(29\, 33\, 41)">Wherever you share your story\, challenge your friends to join you and&nbsp\;</span><strong><a class="_58cn" href="https://www.facebook.com/hashtag/includesomeone?source=feed_text&amp\;__xts__%5B0%5D=68.ARD--wxzfEohUBVKQUPrxCYG8XlejQQv5awrRoVF7gz0MszR4O_Dctc4-f1G_MyMRn67dsvcV8EGBhBWZB-lHecthFtDetqbDwkwEN3tYxETED3k9mO_nR81yhGLLlOngBbOsIB7fJCfD0ja4f-UczZrF6dV5t6bWLsi_xqKcPOS2Z5QviK6CmuNG7GbipC7rxRe8bgtvG0IdfQRnS6w9yShe-pKmIPZh2Ux3J6ejnI09t4ZsIN3P08OqHhclFJZPWambVvczmIpxeuO&amp\;__tn__=%2ANK-R" style="color: rgb(54\, 88\, 153)\; cursor: pointer\; text-decoration: none\; font-family: system-ui\, -apple-system\, system-ui\, &quot\;.SFNSText-Regular&quot\;\, sans-serif\; font-size: 14px\; font-variant-ligatures: normal\; orphans: 2\; widows: 2\;">#IncludeSomeone</a></strong><span style="color:rgb(29\, 33\, 41)">&nbsp\;on <strong>#GivingTuesday. </strong>And if they can&#39\;t do that\, challenge them to make a contribution to help CultureALL provide education programs that bring people together to talk\, listen\, learn\, and collaborate in building a communities where everyone is valued.</span><br />\n&nbsp\;<br />\nUse these hashtags to help amplify the message: <strong>#GivingTuesday #IncludeSomeone #CultureALL.</strong><br />\n&nbsp\;<br />\n<strong>Make a #GivingTuesday Challenge Pledge</strong><br />\nIf you&rsquo\;re feeling generous\, there&rsquo\;s one more thang you can do.&nbsp\;&nbsp\;Make a pledge to include CultureALL in your charitable giving.&nbsp\;&nbsp\;You don&rsquo\;t have to give now\, or even on <strong>#GivingTuesday</strong>. But if you care about diversity and want to support CultureALL&rsquo\;s work in the community\, please consider making a pledge to give before the end or 2018 or even next year.<br />\n&nbsp\;<br />\nMake your pledge at: <a href="https://cultureall.org/donate/take-the-givingtuesday-2018-pledge" target="_blank">https://cultureall.org/donate/take-the-givingtuesday-2018-pledge/</a><br />\n&nbsp\;<br />\nLearn more about the <strong>#GivingTuesday Challenge</strong> on our website at:&nbsp\;<a href="https://cultureall.org/take-our-givingtuesday-challenge/" target="_blank">https://cultureall.org/take-our-givingtuesday-challenge/</a><br />\n&nbsp\;<br />\nJoin our virtual event on Facebook: <a href="https://www.facebook.com/events/175825690027724/" target="_blank">https://www.facebook.com/events/175825690027724/</a><br />\n&nbsp\;<br />\n<strong>Include Someone.&nbsp\;&nbsp\;Let&rsquo\;s flood the world &ndash\; and the virtual world &ndash\; with love and kindness.&nbsp\;</strong><br />\n&nbsp\;<br />\nWe&rsquo\;re all in this together.</span></span>
LOCATION:Wherever You Are
UID:e.1185.8734
SEQUENCE:3
DTSTAMP:20260422T155513Z
URL:http://getaquote-mobile.uniquelyurbandale.com/events/details/cultureall-givingtuesday-challenge-8734
END:VEVENT

END:VCALENDAR
