BEGIN:VCALENDAR
VERSION:2.0
PRODID:-//ChamberMaster//Event Calendar 2.0//EN
METHOD:PUBLISH
X-PUBLISHED-TTL:P3D
REFRESH-INTERVAL:P3D
CALSCALE:GREGORIAN
BEGIN:VEVENT
DTSTART:20161101T133000Z
DTEND:20161101T213000Z
X-MICROSOFT-CDO-ALLDAYEVENT:FALSE
SUMMARY:Crucial Conversations® FOCUSED 1 Day Workshop
DESCRIPTION:ATW is excited to offer our fellow Urbandale Chamber Members a $150 discount for this 1-Day Crucial Conversations  FOCUSED training program. This 1 day version of Crucial Conversations teaches a subset of the skills taught in the traditional 2 day course in a more concise classroom experience. Participants learn skills for creating alignment and agreement by fostering open dialogue around high stakes\, emotional\, or risky topics - at all levels of the organization. Click the link below for greater detail on what the FOCUSED session covers. Pricing is just $645 per person and includes all materials and lunch. http://atwtraining.com/files/documents/Crucial-Conversations-FOCUSED%20Tools%20for%20Talking-Overview%20PDF.pdf
X-ALT-DESC;FMTTYPE=text/html:ATW is excited to offer our fellow Urbandale Chamber Members a $150 discount for this 1-Day Crucial Conversations&reg\; FOCUSED training program. This 1 day version of Crucial Conversations teaches a subset of the skills taught in the traditional 2 day course in a more concise classroom experience. Participants learn skills for creating alignment and agreement by fostering open dialogue around high stakes\, emotional\, or risky topics - at all levels of the organization. Click the link below for greater detail on what the FOCUSED session covers. Pricing is just $645 per person and includes all materials and lunch. http://atwtraining.com/files/documents/Crucial-Conversations-FOCUSED%20Tools%20for%20Talking-Overview%20PDF.pdf
LOCATION:Three Fountains Complex/Edgewater Bld. Training Center Lower Level #134 4200 University Ave. WDM
UID:e.1185.4930
SEQUENCE:3
DTSTAMP:20260421T034911Z
URL:http://getaquote-mobile.uniquelyurbandale.com/events/details/crucial-conversations-focused-1-day-workshop-11-01-2016-4930
END:VEVENT

END:VCALENDAR
