BEGIN:VCALENDAR
VERSION:2.0
PRODID:-//ChamberMaster//Event Calendar 2.0//EN
METHOD:PUBLISH
X-PUBLISHED-TTL:P3D
REFRESH-INTERVAL:P3D
CALSCALE:GREGORIAN
BEGIN:VEVENT
DTSTART:20170329T223000Z
DTEND:20170329T233000Z
X-MICROSOFT-CDO-ALLDAYEVENT:FALSE
SUMMARY:Create a Spring Wreath!
DESCRIPTION:Create a one-of-a-kind wreath at our next DIY Class for your entry way\, patio\, or door!\n\n\n\nClass sizes are limited so please call ahead to save your spot by calling 515-276-4951 by Friday\, March 24 at 6 p.m.
X-ALT-DESC;FMTTYPE=text/html:<span style="color:rgb(75\, 79\, 86)\; font-family:san francisco\,-apple-system\,system-ui\,.sfnstext-regular\,sans-serif\; font-size:14px">Create a one-of-a-kind wreath at our next DIY Class for your entry way\, patio\, or door!</span><br />\n<br />\n<span style="color:rgb(75\, 79\, 86)\; font-family:san francisco\,-apple-system\,system-ui\,.sfnstext-regular\,sans-serif\; font-size:14px">Class sizes are limited so please call ahead to save your spot by calling 515-276-4951 by Friday\, March 24 at 6 p.m.</span>
LOCATION:Plaza Florist & Gifts 6656 Douglas Ave Urbandale\, IA 50322
UID:e.1185.5151
SEQUENCE:3
DTSTAMP:20260421T091555Z
URL:http://getaquote-mobile.uniquelyurbandale.com/events/details/create-a-spring-wreath-5151
END:VEVENT

END:VCALENDAR
