BEGIN:VCALENDAR
VERSION:2.0
PRODID:-//ChamberMaster//Event Calendar 2.0//EN
METHOD:PUBLISH
X-PUBLISHED-TTL:P3D
REFRESH-INTERVAL:P3D
CALSCALE:GREGORIAN
BEGIN:VEVENT
DTSTART:20161008T140000Z
DTEND:20161008T210000Z
X-MICROSOFT-CDO-ALLDAYEVENT:FALSE
SUMMARY:Corn Harvest
DESCRIPTION:Explore the importance of corn to farmers in the 19th century. Help shell and grind corn at the 1900 Horse-Powered Farm. Walk into the corn fields to survey the potential corn crop and see the tools needed to process corn in the past. Take a peek in the farmhouse as staff prepare a farmhands? dinner\, take a horse-drawn wagon ride\, and view harvesting machinery demonstrations.
X-ALT-DESC;FMTTYPE=text/html:Explore the importance of corn to farmers in the 19th century. Help shell and grind corn at the 1900 Horse-Powered Farm. Walk into the corn fields to survey the potential corn crop and see the tools needed to process corn in the past. Take a peek in the farmhouse as staff prepare a farmhands? dinner\, take a horse-drawn wagon ride\, and view harvesting machinery demonstrations.
LOCATION:Living History Farms 11121 Hickman Road Urbandale\, IA 50322
UID:e.1185.4713
SEQUENCE:3
DTSTAMP:20260421T021342Z
URL:http://getaquote-mobile.uniquelyurbandale.com/events/details/corn-harvest-10-08-2016-4713
END:VEVENT

END:VCALENDAR
