BEGIN:VCALENDAR
VERSION:2.0
PRODID:-//ChamberMaster//Event Calendar 2.0//EN
METHOD:PUBLISH
X-PUBLISHED-TTL:P3D
REFRESH-INTERVAL:P3D
CALSCALE:GREGORIAN
BEGIN:VEVENT
DTSTART:20170221T233000Z
DTEND:20170222T003000Z
X-MICROSOFT-CDO-ALLDAYEVENT:FALSE
SUMMARY:Cookie & Wine Pairing Rendezvous
DESCRIPTION:Cookie & Wine Pairing. Tis the season for Girl Scout Cookies! Whether you love Thin Mints\, Caramel DeLites or Peanut Butter Patties-learn what wine pairs best with your favorite treat.!
X-ALT-DESC;FMTTYPE=text/html:Cookie &amp\; Wine Pairing. Tis the season for Girl Scout Cookies! Whether you love Thin Mints\, Caramel DeLites or Peanut Butter Patties-learn what wine pairs best with your favorite treat.!
LOCATION:Hotel Renovo 11167 Hickman Rd-Urbandale
UID:e.1185.5127
SEQUENCE:3
DTSTAMP:20260421T091723Z
URL:http://getaquote-mobile.uniquelyurbandale.com/events/details/cookie-wine-pairing-rendezvous-5127
END:VEVENT

END:VCALENDAR
