BEGIN:VCALENDAR
VERSION:2.0
PRODID:-//ChamberMaster//Event Calendar 2.0//EN
METHOD:PUBLISH
X-PUBLISHED-TTL:P3D
REFRESH-INTERVAL:P3D
CALSCALE:GREGORIAN
BEGIN:VEVENT
DTSTART:20160330T193000Z
DTEND:20160330T203000Z
X-MICROSOFT-CDO-ALLDAYEVENT:FALSE
SUMMARY:Cookie Bake-Off
DESCRIPTION:Join us for an afternoon of delicious cookie sampling. The winner will be decided by a panel of four judges made up of residents and associates. Can?t make the event? You can still sample the best. The top two winners will have their cookies featured in our bistro in the month of April.
X-ALT-DESC;FMTTYPE=text/html:Join us for an afternoon of delicious cookie sampling. The winner will be decided by a panel of four judges made up of residents and associates. Can?t make the event? You can still sample the best. The top two winners will have their cookies featured in our bistro in the month of April.
LOCATION:The Village at Legacy Pointe 1650 SE Holiday Crest Circle
UID:e.1185.4742
SEQUENCE:3
DTSTAMP:20260420T153121Z
URL:http://getaquote-mobile.uniquelyurbandale.com/events/details/cookie-bake-off-03-30-2016-4742
END:VEVENT

END:VCALENDAR
