BEGIN:VCALENDAR
VERSION:2.0
PRODID:-//ChamberMaster//Event Calendar 2.0//EN
METHOD:PUBLISH
X-PUBLISHED-TTL:P3D
REFRESH-INTERVAL:P3D
CALSCALE:GREGORIAN
BEGIN:VEVENT
DTSTART:20210825T163000Z
DTEND:20210825T180000Z
X-MICROSOFT-CDO-ALLDAYEVENT:FALSE
SUMMARY:Contacts & Contracts Wednesday PM Group\, Presented by Mark Courter State Farm Insurance
DESCRIPTION:Connecting U! Contacts & Contracts is a group formed for members to develop deeper business relationships with the purpose of lead sharing and referrals.\nThe group is limited by size and industry. Membership to the group is annual and members must commit to coming to 90% of the meetings\, which are held every month from 11:30-1:00 pm.\n\nReservations to participate monthly are required.\n\nPlease contact Tiffany Menke (tmenke@urbandalechamber.com) if you are interested in participating in this group.  Cost is $50 per year.\n\n \n\nThank you to the Wednesday Afternoon Contacts & Contracts Group Sponsor:\n\nState Farm Insurance   Mark Courter
X-ALT-DESC;FMTTYPE=text/html:<span style="font-size:14px\;"><span style="font-family:arial\;">Connecting U! Contacts &amp\; Contracts is a group formed for members to develop deeper business relationships with the purpose of lead sharing and referrals.</span></span>\n<p><span style="font-size:14px\;"><span style="font-family:arial\;">The group is limited by size and industry. Membership to the group is annual and members must commit to coming to 90% of the meetings\, which are held every month from 11:30-1:00 pm.</span></span></p>\n\n<p><span style="font-size:14px\;"><span style="font-family:arial\;">Reservations to participate monthly are required.</span></span></p>\n\n<p><span style="font-size:14px\;"><span style="font-family:arial\;">Please contact Tiffany Menke (<u>tmenke@urbandalechamber.com</u>) if you are interested in participating in this group. &nbsp\;Cost is $50 per year.</span></span><br />\n&nbsp\;</p>\n\n<p style="text-align: center\;"><span style="font-size:14px\;"><span style="font-family:arial\;"><strong><span style="background:white\;"><span style="color:#333333\;">Thank you to the Wednesday Afternoon Contacts &amp\; Contracts Group Sponsor:</span></span></strong><br />\n<a href="https://businesses.uniquelyurbandale.com/list/member/state-farm-insurance-mark-courter-urbandale-1310"><strong><span style="background:white\;"><span style="color:#333333\;">State Farm Insurance &ndash\; Mark Courter</span></span></strong></a></span></span></p>\n
LOCATION:Hybrid - In person at the Urbandale Chamber located at 2830 100th St.\, Ste. 110\, Urbandale and virtually
UID:e.1185.11107
SEQUENCE:3
DTSTAMP:20260424T172044Z
URL:http://getaquote-mobile.uniquelyurbandale.com/events/details/contacts-contracts-wednesday-pm-group-presented-by-mark-courter-state-farm-insurance-08-25-2021-11107
END:VEVENT

END:VCALENDAR
