BEGIN:VCALENDAR
VERSION:2.0
PRODID:-//ChamberMaster//Event Calendar 2.0//EN
METHOD:PUBLISH
X-PUBLISHED-TTL:P3D
REFRESH-INTERVAL:P3D
CALSCALE:GREGORIAN
BEGIN:VEVENT
DTSTART:20220112T143000Z
DTEND:20220112T160000Z
X-MICROSOFT-CDO-ALLDAYEVENT:FALSE
SUMMARY:Contacts & Contracts Wednesday AM Group\, Presented by Jon Smith Iowa Realty
DESCRIPTION:Connecting U! Contacts & Contracts is a group formed for members to develop deeper business relationships with the purpose of lead sharing and referrals.\n\n\n\nThe group is limited by size and industry. Membership to the group is annual and members must commit to coming to 90% of the meetings\, which are held every month from 8:30-10:00 am. \n\n\n\nReservations to participate monthly are required.  THE JANUARY 2022 MEETING IS BEING HELD VIRTUAL ONLY DUE TO THE COVID POSITIVITY RATE EXCEEDING 20%\n\n\n\nPlease contact Tiffany Menke (tmenke@urbandalechamber.com) if you are interested in participating in this group.  Cost is $50 per year.\n\n\nThank you to the Wednesday Morning Contacts & Contracts Group Sponsor:\n\nJon Smith   Iowa Realty
X-ALT-DESC;FMTTYPE=text/html:<span style="font-size:14px\;"><span style="font-family:arial\;">Connecting U! Contacts &amp\; Contracts is a group formed for members to develop deeper business relationships with the purpose of lead sharing and referrals.<br />\n<br />\nThe group is limited by size and industry. Membership to the group is annual and members must commit to coming to 90% of the meetings\, which are held every month from 8:30-10:00 am.&nbsp\;<br />\n<br />\nReservations to participate monthly are required.&nbsp\;<strong><span style="color:#FF0000\;"> THE JANUARY 2022 MEETING IS BEING HELD VIRTUAL ONLY DUE TO THE COVID POSITIVITY RATE EXCEEDING 20%</span></strong><br />\n<br />\nPlease contact Tiffany&nbsp\;<span data-scayt-lang="en_US" data-scayt-word="Menke" style="background-image:url(">Menke</span>&nbsp\;(<u><span data-scayt-lang="en_US" data-scayt-word="tmenke" style="background-image:url(">tmenke</span></u><u>@urbandalechamber.com</u>) if you are interested in participating in this group. &nbsp\;Cost is $50 per year.</span></span>\n<div style="text-align: center\;"><br />\n<span style="font-size:14px\;"><span style="font-family:arial\;"><strong><span style="background:white\;font-weight:normal\;"><span style="color:#333333\;">Thank you to the Wednesday Morning Contacts &amp\; Contracts Group Sponsor:</span></span><br />\n<a href="https://businesses.uniquelyurbandale.com/list/member/jon-smith-iowa-realty-3425"><span style="background:white\;font-weight:normal\;"><span style="color:#333333\;">Jon Smith &ndash\; Iowa Realty</span></span></a></strong></span></span></div>\n
LOCATION:THIS EVENT HAS BEEN MOVED TO VIRTUAL ONLY DUE TO THE COVID POSITIVITY RATE OVER 20%
UID:e.1185.11095
SEQUENCE:3
DTSTAMP:20260425T014659Z
URL:http://getaquote-mobile.uniquelyurbandale.com/events/details/contacts-contracts-wednesday-am-group-presented-by-jon-smith-iowa-realty-01-12-2022-11095
END:VEVENT

END:VCALENDAR
