BEGIN:VCALENDAR
VERSION:2.0
PRODID:-//ChamberMaster//Event Calendar 2.0//EN
METHOD:PUBLISH
X-PUBLISHED-TTL:P3D
REFRESH-INTERVAL:P3D
CALSCALE:GREGORIAN
BEGIN:VEVENT
DTSTART:20200820T163000Z
DTEND:20200820T180000Z
X-MICROSOFT-CDO-ALLDAYEVENT:FALSE
SUMMARY:Contacts & Contracts Thursday Group\, Presented by Ben Buenzow State Farm
DESCRIPTION:PLEASE NOTE - THIS MONTH THE CC GROUP MEETS ON THE 3RD THURSDAY!\n\n\n\nConnecting U!  Contacts & Contracts is a group formed for members to develop deeper business relationships with the purpose of lead sharing and referrals.\n\nThere is a $50 annual charge for Urbandale Chamber members to participate.  The group is limited to one person per industry.  Membership to the group is annual and members must commit to attending the monthly meetings\, which are held the last Thursday of every month from 11:30   1 p.m. in the RODAN Board Room at the Chamber office\, located at 2830 100th St.\, Ste. 110. Urbandale\n\nReservations to participate monthly are required. \n\nPlease contact Tiffany Menke(Tmenke@urbandalechamber) if you are interested in participating in this group.
X-ALT-DESC;FMTTYPE=text/html:<p><strong>PLEASE NOTE - THIS MONTH THE CC GROUP MEETS ON THE 3RD THURSDAY!</strong><br />\n<br />\nConnecting U!&nbsp\; Contacts &amp\; Contracts is a group formed for members to develop deeper business relationships with the purpose of lead sharing and referrals.</p>\n\n<p>There is a $50 annual charge for Urbandale Chamber members to participate.&nbsp\; The group is limited to one person per industry.&nbsp\; Membership to the group is annual and members must commit to attending&nbsp\;the monthly meetings\, which are held the last Thursday of every month from 11:30 &ndash\; 1 p.m. in the RODAN Board Room at the Chamber office\, located at 2830 100th St.\, Ste. 110. Urbandale</p>\n\n<p>Reservations to participate monthly are required.&nbsp\;</p>\n\n<p>Please contact Tiffany Menke(<a href="mailto:Tmenke@urbandalechamber">Tmenke@urbandalechamber</a>) if you are interested in participating in this group.</p>\n
LOCATION:RODAN Board Room\, Urbandale Chamber of Commerce Attendees can attend the event in-person at the event location. In-person registration will be limited to ensure social distancing. Participants can attend virtually via Zoom event as well.
UID:e.1185.10493
SEQUENCE:3
DTSTAMP:20260424T001432Z
URL:http://getaquote-mobile.uniquelyurbandale.com/events/details/contacts-contracts-thursday-group-presented-by-ben-buenzow-state-farm-08-27-2020-10493
END:VEVENT

END:VCALENDAR
