BEGIN:VCALENDAR
VERSION:2.0
PRODID:-//ChamberMaster//Event Calendar 2.0//EN
METHOD:PUBLISH
X-PUBLISHED-TTL:P3D
REFRESH-INTERVAL:P3D
CALSCALE:GREGORIAN
BEGIN:VEVENT
DTSTART:20140227T173000Z
DTEND:20140227T190000Z
X-MICROSOFT-CDO-ALLDAYEVENT:FALSE
SUMMARY:Contacts & Contracts Thursday Group\, Presented by Ben Buenzow State Farm
DESCRIPTION:Connecting U!  Contacts & Contracts is a group formed for members to develop deeper business relationships with the purpose of lead sharing and referrals.\n\n	There is no additional charge for members to participate\, however the group is limited by size and industry.  Membership to the group is annual and members must commit to coming to 90% of the meetings\, which are held the last Thursday of every month from 11:30   1 p.m. in the Board Room at the Chamber office\, located at 2830 100th Street\, Ste #110.\, Urbandale.\n\n	Reservations to participate monthly are required. \n\n	Please contact Tiffany Menke (tmenke@urbandalechamber.com) if you are interested in participating in this group.
X-ALT-DESC;FMTTYPE=text/html:<p>\n	Connecting U!&nbsp\; Contacts &amp\; Contracts is a group formed for members to develop deeper business relationships with the purpose of lead sharing and referrals.</p>\n<p>\n	There is no additional charge for members to participate\, however the group is limited by size and industry.&nbsp\; Membership to the group is annual and members must commit to coming to 90% of the meetings\, which are held the last Thursday of every month from 11:30 &ndash\; 1 p.m. in the&nbsp\;Board Room at the Chamber office\, located at 2830 100th Street\, Ste #110.\, Urbandale.</p>\n<p>\n	Reservations to participate monthly are required.&nbsp\;</p>\n<p>\n	Please contact Tiffany Menke&nbsp\;(<u><a href="mailto:Tmenke@urbandalechamber">t</a>menke@urbandalechamber.com</u>)&nbsp\;if you are interested in participating in this group.</p>\n
LOCATION:Board Room at the Chamber office\, located at 2830 100th Street\, Ste #110.\, Urbandale.
UID:e.1185.2495
SEQUENCE:3
DTSTAMP:20260419T222302Z
URL:http://getaquote-mobile.uniquelyurbandale.com/events/details/contacts-contracts-thursday-group-presented-by-ben-buenzow-state-farm-02-27-2014-2495
END:VEVENT

END:VCALENDAR
