BEGIN:VCALENDAR
VERSION:2.0
PRODID:-//ChamberMaster//Event Calendar 2.0//EN
METHOD:PUBLISH
X-PUBLISHED-TTL:P3D
REFRESH-INTERVAL:P3D
CALSCALE:GREGORIAN
BEGIN:VEVENT
DTSTART:20141113T173000Z
DTEND:20141113T190000Z
X-MICROSOFT-CDO-ALLDAYEVENT:FALSE
SUMMARY:Contacts & Contracts Thur. Group\, Presented by Ben Buenzow State Farm Insurance
DESCRIPTION:Connecting U! Contacts & Contracts is a group formed for members to develop deeper business relationships with the purpose of lead sharing and referrals.\n\nThere is no additional charge for members to participate\, however the group is limited by size and industry. Membership to the group is annual and members must commit to coming to 90% of the meetings\, which are held the last Thursday of every month from 11:30   1 p.m. in the Board Room at the Chamber office\, located at 2830 100th Street\, Ste #110.\, Urbandale.\n\nReservations to participate monthly are required.\n\nPlease contact Tiffany Menke (tmenke@urbandalechamber.com) if you are interested in participating in this group.
X-ALT-DESC;FMTTYPE=text/html:<p>Connecting U! Contacts &amp\; Contracts is a group formed for members to develop deeper business relationships with the purpose of lead sharing and referrals.</p>\n\n<p>There is no additional charge for members to participate\, however the group is limited by size and industry. Membership to the group is annual and members must commit to coming to 90% of the meetings\, which are held the last Thursday of every month from 11:30 &ndash\; 1 p.m. in the Board Room at the Chamber office\, located at 2830 100th Street\, Ste #110.\, Urbandale.</p>\n\n<p>Reservations to participate monthly are required.</p>\n\n<p>Please contact Tiffany Menke (<u><a href="mailto:Tmenke@urbandalechamber">t</a>menke@urbandalechamber.com</u>) if you are interested in participating in this group.</p>\n
LOCATION:Board Room at the Chamber office\, located at 2830 100th Street\, Ste #110.\, Urbandale.
UID:e.1185.3193
SEQUENCE:3
DTSTAMP:20260419T180454Z
URL:http://getaquote-mobile.uniquelyurbandale.com/events/details/contacts-contracts-thur-group-presented-by-ben-buenzow-state-farm-insurance-11-13-2014-3193
END:VEVENT

END:VCALENDAR
