BEGIN:VCALENDAR
VERSION:2.0
PRODID:-//ChamberMaster//Event Calendar 2.0//EN
METHOD:PUBLISH
X-PUBLISHED-TTL:P3D
REFRESH-INTERVAL:P3D
CALSCALE:GREGORIAN
BEGIN:VEVENT
DTSTART:20210628T163000Z
DTEND:20210628T180000Z
X-MICROSOFT-CDO-ALLDAYEVENT:FALSE
SUMMARY:Contacts & Contracts Monday Group Presented by Edward Jones | Tara Knight-Ortiz
DESCRIPTION:Connecting U! Contacts & Contracts (CC) is a group formed for members to develop deeper business relationships with the purpose of lead sharing and referrals. \n\n\n\nThe group is limited by size and industry. Membership to the group is annual and members must commit to coming to 75% of the meetings\, which are held every month from 11:30 am to 1 pm.\n\n\n\nPlease contact Tiffany Menke (tmenke@urbandalechamber.com) if you are interested in participating in this group. Cost is $50 per year.\n\n \nThank you to the Monday Contacts & Contracts Group Sponsor\n\nEdward Jones - Tara Knight-Ortiz
X-ALT-DESC;FMTTYPE=text/html:<span style="font-family:arial\,sans-serif\;"><span style="font-size:10pt\;">Connecting U! Contacts &amp\; Contracts (CC) is a group formed for members to develop deeper business relationships with the purpose of lead sharing and referrals.&nbsp\;</span></span><br />\n<br />\n<span style="font-family:arial\,sans-serif\;"><span style="font-size:10pt\;">The group is limited by size and industry. Membership to the group is annual and members must commit to coming to 75% of the meetings\, which are held every month from 11:30 am to 1 pm.</span></span><br />\n<br />\n<span style="font-family:arial\,sans-serif\;"><span style="font-size:10pt\;">Please contact Tiffany&nbsp\;</span></span><span style="font-family:arial\,sans-serif\;"><span style="font-size:10pt\;"><span data-scayt-lang="en_US" data-scayt-word="Menke" style="background-image:url(">Menke</span></span></span><span style="font-family:arial\,sans-serif\;"><span style="font-size:10pt\;">&nbsp\;(</span></span><u><span style="font-family:arial\,sans-serif\;"><span style="font-size:10pt\;"><span data-scayt-lang="en_US" data-scayt-word="tmenke" style="background-image:url(">tmenke</span></span></span></u><u><span style="font-family:arial\,sans-serif\;"><span style="font-size:10pt\;">@urbandalechamber.com</span></span></u><span style="font-family:arial\,sans-serif\;"><span style="font-size:10pt\;">) if you are interested in participating in this group. Cost is $50 per year.</span></span><br />\n&nbsp\;\n<div style="text-align: center\;"><strong style="font-family: arial\, sans-serif\; font-size: 13.3333px\; text-align: center\;">Thank you to the Monday Contacts &amp\; Contracts Group Sponsor</strong></div>\n\n<div style="text-align: center\;"><a href="https://businesses.uniquelyurbandale.com/list/member/edward-jones-6181" style="font-family: arial\, sans-serif\; font-size: 13.3333px\; text-align: center\;">Edward Jones - Tara Knight-Ortiz</a></div>\n&nbsp\;
LOCATION:Hybrid In person at the Urbandale Chamber office 2830 100th St.\, Ste. 110\, Urbandale and virtually
UID:e.1185.11056
SEQUENCE:3
DTSTAMP:20260424T142238Z
URL:http://getaquote-mobile.uniquelyurbandale.com/events/details/contacts-contracts-monday-group-presented-by-edward-jones-tara-knight-ortiz-06-28-2021-11056
END:VEVENT

END:VCALENDAR
