BEGIN:VCALENDAR
VERSION:2.0
PRODID:-//ChamberMaster//Event Calendar 2.0//EN
METHOD:PUBLISH
X-PUBLISHED-TTL:P3D
REFRESH-INTERVAL:P3D
CALSCALE:GREGORIAN
BEGIN:VEVENT
DTSTART:20201026T163000Z
DTEND:20201026T180000Z
X-MICROSOFT-CDO-ALLDAYEVENT:FALSE
SUMMARY:Contacts & Contracts Monday Group
DESCRIPTION:Connecting U! Contacts & Contracts (CC) is a group formed for members to develop deeper business relationships with the purpose of lead sharing and referrals. The Monday CC group is brand new in 2020!\n\n\n\nThe group is limited by size and industry. Membership to the group is annual and members must commit to coming to 75% of the meetings\, which are held every month from 11:30 am to 1 pm in the RODAN Board Room at the Chamber office\, located at 2830 100th Street\, Ste #110.\, Urbandale and virtually.\n\nReservations to participate monthly are required.\n\n\n\nPlease contact Tiffany Menke (tmenke@urbandalechamber.com) if you are interested in participating in this group. Cost is $50 per year.
X-ALT-DESC;FMTTYPE=text/html:<span style="font-family:arial\,sans-serif\;"><span style="font-size:10pt\;">Connecting U! Contacts &amp\; Contracts (CC) is a group formed for members to develop deeper business relationships with the purpose of lead sharing and referrals. The Monday CC group is brand new in 2020!</span></span><br />\n<br />\n<span style="font-family:arial\,sans-serif\;"><span style="font-size:10pt\;">The group is limited by size and industry. Membership to the group is annual and members must commit to coming to 75% of the meetings\, which are held every month from 11:30 am to 1 pm in the&nbsp\;</span></span><span style="font-family:arial\,sans-serif\;"><span style="font-size:10pt\;"><span data-scayt-lang="en_US" data-scayt-word="RODAN" style="background-image:url(&quot\;waveline.gif&quot\;)\;">RODAN</span></span></span><span style="font-family:arial\,sans-serif\;"><span style="font-size:10pt\;">&nbsp\;Board Room at the Chamber office\, located at 2830&nbsp\;</span></span><span style="font-family:arial\,sans-serif\;"><span style="font-size:10pt\;"><span data-scayt-lang="en_US" data-scayt-word="100th" style="background-image:url(&quot\;waveline.gif&quot\;)\;">100th</span></span></span><span style="font-family:arial\,sans-serif\;"><span style="font-size:10pt\;">&nbsp\;Street\, Ste #110.\,&nbsp\;</span></span><span style="font-family:arial\,sans-serif\;"><span style="font-size:10pt\;"><span data-scayt-lang="en_US" data-scayt-word="Urbandale" style="background-image:url(&quot\;waveline.gif&quot\;)\;">Urbandale and virtually</span></span></span><span style="font-family:arial\,sans-serif\;"><span style="font-size:10pt\;">.</span></span><br />\n<span style="font-family:arial\,sans-serif\;"><span style="font-size:10pt\;">Reservations to participate monthly are required.</span></span><br />\n<br />\n<span style="font-family:arial\,sans-serif\;"><span style="font-size:10pt\;">Please contact Tiffany&nbsp\;</span></span><span style="font-family:arial\,sans-serif\;"><span style="font-size:10pt\;"><span data-scayt-lang="en_US" data-scayt-word="Menke" style="background-image:url(&quot\;waveline.gif&quot\;)\;">Menke</span></span></span><span style="font-family:arial\,sans-serif\;"><span style="font-size:10pt\;">&nbsp\;(</span></span><u><span style="font-family:arial\,sans-serif\;"><span style="font-size:10pt\;"><span data-scayt-lang="en_US" data-scayt-word="tmenke" style="background-image:url(&quot\;waveline.gif&quot\;)\;">tmenke</span></span></span></u><u><span style="font-family:arial\,sans-serif\;"><span style="font-size:10pt\;">@urbandalechamber.com</span></span></u><span style="font-family:arial\,sans-serif\;"><span style="font-size:10pt\;">) if you are interested in participating in this group. Cost is $50 per year.</span></span>
LOCATION:RODAN Board Room\, Urbandale Chamber Office\, 2830 100th Street\, Ste 110\, Urbandale\, IA Attendees may attend the event in-person at the event location. In-person registration will be limited to ensure social distancing. Participants may also attend virtually via Zoom event as well.
UID:e.1185.10956
SEQUENCE:3
DTSTAMP:20260424T031017Z
URL:http://getaquote-mobile.uniquelyurbandale.com/events/details/contacts-contracts-monday-group-10956
END:VEVENT

END:VCALENDAR
