BEGIN:VCALENDAR
VERSION:2.0
PRODID:-//ChamberMaster//Event Calendar 2.0//EN
METHOD:PUBLISH
X-PUBLISHED-TTL:P3D
REFRESH-INTERVAL:P3D
CALSCALE:GREGORIAN
BEGIN:VEVENT
DTSTART:20150731T133000Z
DTEND:20150731T150000Z
X-MICROSOFT-CDO-ALLDAYEVENT:FALSE
SUMMARY:Contacts & Contracts Friday AM Group\, Presented by New York Life Insurance Company and NYLIFE Securities LLC
DESCRIPTION:Connecting U!  Contacts & Contracts is a group formed for members to develop deeper business relationships with the purpose of lead sharing and referrals.\n\nThe group is limited by size and industry.  Membership to the group is annual and members must commit to coming to 90% of the meetings\, which are held every month from 8:30-10:00 am. in the Board Room at the Chamber office\, located at 2830 100th Street\, Ste 110\, Urbandale.\n\nReservations to participate monthly are required. \n\nPlease contact Tiffany Menke(Tmenke@urbandalechamber) if you are interested in participating in this group.  There is a $50 annual fee to participate.
X-ALT-DESC;FMTTYPE=text/html:<p>Connecting U!&nbsp\; Contacts &amp\; Contracts is a group formed for members to develop deeper business relationships with the purpose of lead sharing and referrals.</p>\n\n<p>The group is limited by size and industry.&nbsp\; Membership to the group is annual and members must commit to coming to 90% of the meetings\, which are held every month from 8:30-10:00 am. in the Board Room at the Chamber office\, located at 2830 100th Street\, Ste&nbsp\;110\, Urbandale.</p>\n\n<p>Reservations to participate monthly are required.&nbsp\;</p>\n\n<p>Please contact Tiffany Menke(<a href="mailto:Tmenke@urbandalechamber"><u>Tmenke@urbandalechamber</u></a>) if you are interested in participating in this group. &nbsp\;There is a $50 annual fee to participate.</p>\n
LOCATION:Board Room at the Chamber office\, located at 2830 100th Street\, Ste 110\,
UID:e.1185.4069
SEQUENCE:3
DTSTAMP:20260420T042605Z
URL:http://getaquote-mobile.uniquelyurbandale.com/events/details/contacts-contracts-friday-am-group-presented-by-new-york-life-insurance-company-and-nylife-securities-llc-07-31-2015-4069
END:VEVENT

END:VCALENDAR
