BEGIN:VCALENDAR
VERSION:2.0
PRODID:-//ChamberMaster//Event Calendar 2.0//EN
METHOD:PUBLISH
X-PUBLISHED-TTL:P3D
REFRESH-INTERVAL:P3D
CALSCALE:GREGORIAN
BEGIN:VEVENT
DTSTART:20140725T133000Z
DTEND:20140725T150000Z
X-MICROSOFT-CDO-ALLDAYEVENT:FALSE
SUMMARY:Contacts & Contracts Fri AM Group\, Presented by Shelter Insurance - Lora Donahoe
DESCRIPTION:Connecting U!  Contacts & Contracts is a group formed for members to develop deeper business relationships with the purpose of lead sharing and referrals.\n\n	There is no additional charge for members to participate\, however the group is limited by size and industry.  Membership to the group is annual and members must commit to coming to 90% of the meetings\, which are held every month from 8:30-10:00 am. in the Board Room at the Chamber office\, located at 2830 100th Street\, Ste 110\, Urbandale.\n\n	Reservations to participate monthly are required. \n\n	Please contact Tiffany Menke(Tmenke@urbandalechamber) if you are interested in participating in this group.
X-ALT-DESC;FMTTYPE=text/html:<p>\n	Connecting U!&nbsp\; Contacts &amp\; Contracts is a group formed for members to develop deeper business relationships with the purpose of lead sharing and referrals.</p>\n<p>\n	There is no additional charge for members to participate\, however the group is limited by size and industry.&nbsp\; Membership to the group is annual and members must commit to coming to 90% of the meetings\, which are held every month from 8:30-10:00 am. in the Board Room at the Chamber office\, located at 2830 100th Street\, Ste&nbsp\;110\, Urbandale.</p>\n<p>\n	Reservations to participate monthly are required.&nbsp\;</p>\n<p>\n	Please contact Tiffany Menke(<a href="mailto:Tmenke@urbandalechamber"><u>Tmenke@urbandalechamber</u></a>) if you are interested in participating in this group.</p>\n
LOCATION:Board Room at the Chamber office\, located at 2830 100th Street\, Ste 110\,
UID:e.1185.3593
SEQUENCE:3
DTSTAMP:20260419T142220Z
URL:http://getaquote-mobile.uniquelyurbandale.com/events/details/contacts-contracts-fri-am-group-presented-by-shelter-insurance-lora-donahoe-07-25-2014-3593
END:VEVENT

END:VCALENDAR
