BEGIN:VCALENDAR
VERSION:2.0
PRODID:-//ChamberMaster//Event Calendar 2.0//EN
METHOD:PUBLISH
X-PUBLISHED-TTL:P3D
REFRESH-INTERVAL:P3D
CALSCALE:GREGORIAN
BEGIN:VEVENT
DTSTART:20150708T163000Z
DTEND:20150708T180000Z
X-MICROSOFT-CDO-ALLDAYEVENT:FALSE
SUMMARY:Contacts and Contracts Luncheon!
DESCRIPTION:This lunch is open to all members of any of the four Contacts and Contracts groups!  Join us for a fun\, social luncheon to get to know all members of this program!  Lunch will be provided\, but please register so we can accommodate for everyone.\n\n\n\nDate: Wednesday\, July 8th\n\nTime: 11:30-1:00 pm\n\nPlace: Murphy's Bar and Grill (100th Street\, Urbandale)\n\nCost: FREE for all CC members
X-ALT-DESC;FMTTYPE=text/html:This lunch is open to all members of any of the four Contacts and Contracts groups! &nbsp\;Join us for a fun\, social luncheon to get to know all members of this program! &nbsp\;Lunch will be provided\, but please register so we can accommodate for everyone.<br />\n<br />\nDate: Wednesday\, July 8th<br />\nTime: 11:30-1:00 pm<br />\nPlace: Murphy&#39\;s Bar and Grill (100th Street\, Urbandale)<br />\nCost: FREE for all CC members
LOCATION:Murphy's Bar and Grill (100th Street\, Urbandale)
UID:e.1185.4177
SEQUENCE:3
DTSTAMP:20260420T041318Z
URL:http://getaquote-mobile.uniquelyurbandale.com/events/details/contacts-and-contracts-luncheon-07-08-2015-4177
END:VEVENT

END:VCALENDAR
