BEGIN:VCALENDAR
VERSION:2.0
PRODID:-//ChamberMaster//Event Calendar 2.0//EN
METHOD:PUBLISH
X-PUBLISHED-TTL:P3D
REFRESH-INTERVAL:P3D
CALSCALE:GREGORIAN
BEGIN:VEVENT
DTSTART:20210824T203000Z
DTEND:20210824T220000Z
X-MICROSOFT-CDO-ALLDAYEVENT:FALSE
SUMMARY:Connector's Social
DESCRIPTION:CONNECTOR SOCIAL\n\nPlease join us as we gather for our August social at Kinship Brewing Company
X-ALT-DESC;FMTTYPE=text/html:CONNECTOR SOCIAL<br />\nPlease join us as we gather for our August social at Kinship Brewing Company
LOCATION:Kinship Brewing Company 255 NW Sunrise Dr. Waukee\, IA 50263
UID:e.1185.11469
SEQUENCE:3
DTSTAMP:20260424T185438Z
URL:http://getaquote-mobile.uniquelyurbandale.com/events/details/connector-s-social-11469
END:VEVENT

END:VCALENDAR
