BEGIN:VCALENDAR
VERSION:2.0
PRODID:-//ChamberMaster//Event Calendar 2.0//EN
METHOD:PUBLISH
X-PUBLISHED-TTL:P3D
REFRESH-INTERVAL:P3D
CALSCALE:GREGORIAN
BEGIN:VEVENT
DTSTART:20200114T173000Z
DTEND:20200114T190000Z
X-MICROSOFT-CDO-ALLDAYEVENT:FALSE
SUMMARY:Connector Meeting
DESCRIPTION:If you are interested in becoming a Chamber Connector\, please contact our chair: Jay Mathes (welcomelg@edencrestliving.com).\n\n\n\nConnectors promote and support the role of the Urbandale Chamber of Commerce as the welcoming arm of the Chamber.  It is a privilege to be a part of this group and it shall be limited in number not to exceed 10% of the membership.\n\nMeetings are held monthly on the second Tuesday from 11:30-1:00 pm.  Locations will vary from month to month.\n\nThis month\, the meeting will be held at Felix and Oscars
X-ALT-DESC;FMTTYPE=text/html:<p><span style="font-size:10.0pt\;font-family:">If you are interested in becoming a Chamber Connector\, please contact our chair: Jay Mathes&nbsp\;(<a href="mailto:welcomelg@edencrestliving.com">welcomelg@edencrestliving.com</a>).<br>\n<br>\nConnectors promote and support the role of the Urbandale Chamber of Commerce as the welcoming arm of the Chamber.&nbsp\; It is a privilege to be a part of this group and it shall be limited in number not to exceed 10% of the membership.</span></p>\n\n<p style="font-variant-ligatures: normal\;font-variant-caps: normal\;orphans: 2\;\ntext-align:start\;widows: 2\;-webkit-text-stroke-width: 0px\;text-decoration-style: initial\;\ntext-decoration-color: initial\;word-spacing:0px"><span style="font-size:10.0pt\;\nfont-family:">Meetings are held monthly on the second Tuesday from 11:30-1:00 pm.&nbsp\; Locations will vary from month to month.</span></p>\n\n<p><span style="font-size:10.0pt\;font-family:">This month\, the meeting will be held at <span style="color:#A52A2A\;"><span style="font-size:16px\;"><strong><em>Felix and Oscars</em></strong></span></span></span></p>\n\n<p><span _fck_bookmark="1" style="display: none">&nbsp\;</span></p>\n
LOCATION:Felix & Oscars 4050 Merle Hay Road Des Moines\, IA 50310
UID:e.1185.8721
SEQUENCE:3
DTSTAMP:20260423T144356Z
URL:http://getaquote-mobile.uniquelyurbandale.com/events/details/connector-meeting-8721
END:VEVENT

END:VCALENDAR
