BEGIN:VCALENDAR
VERSION:2.0
PRODID:-//ChamberMaster//Event Calendar 2.0//EN
METHOD:PUBLISH
X-PUBLISHED-TTL:P3D
REFRESH-INTERVAL:P3D
CALSCALE:GREGORIAN
BEGIN:VEVENT
DTSTART:20141111T173000Z
DTEND:20141111T190000Z
X-MICROSOFT-CDO-ALLDAYEVENT:FALSE
SUMMARY:Connector Meeting
DESCRIPTION:Connectors promote and support the role of the Urbandale Chamber of Commerce as the welcoming arm of the Chamber.  It is a privilege to be a part of this group and it shall be limited in number not to exceed 10% of the membership.\n\nMeetings are held monthly on the second Tuesday from 11:30-1:00 pm.  Locations will vary month to month.\n\nIf you are interested in becoming a Chamber Connector\, please contact our chair: David Russell (DRussell@arpclaw.com)\n\n\n\nThis month the meeting will be held at: Great China Restaurant (8569 Hickman Road\, Urbandale)
X-ALT-DESC;FMTTYPE=text/html:<p>Connectors promote and support the role of the&nbsp\;Urbandale&nbsp\;Chamber of Commerce as the welcoming arm of the Chamber.&nbsp\; It is a privilege to be a part of this group and it shall be limited in number not to exceed 10% of the membership.</p>\n\n<p>Meetings are held monthly on the second Tuesday from 11:30-1:00 pm.&nbsp\; Locations will vary month to month.</p>\n\n<p>If you are interested in becoming a Chamber Connector\, please contact our chair: David Russell (DRussell@arpclaw.com)<br />\n<br />\nThis month the meeting will be held at: Great China Restaurant (8569 Hickman Road\, Urbandale)</p>\n
LOCATION:Great China Restaurant (8569 Hickman Road\, Urbandale)
UID:e.1185.2912
SEQUENCE:3
DTSTAMP:20260419T175756Z
URL:http://getaquote-mobile.uniquelyurbandale.com/events/details/connector-meeting-11-11-2014-2912
END:VEVENT

END:VCALENDAR
