BEGIN:VCALENDAR
VERSION:2.0
PRODID:-//ChamberMaster//Event Calendar 2.0//EN
METHOD:PUBLISH
X-PUBLISHED-TTL:P3D
REFRESH-INTERVAL:P3D
CALSCALE:GREGORIAN
BEGIN:VEVENT
DTSTART:20151109T183000Z
DTEND:20151109T193000Z
X-MICROSOFT-CDO-ALLDAYEVENT:FALSE
SUMMARY:Connector Meeting
DESCRIPTION:PLEASE NOTE!  This month\, the meeting is being rescheduled to this date due to a conflict on our typcial 2nd Tuesday.  Thank you. \n\n\n\nConnectors promote and support the role of the Urbandale Chamber of Commerce as the welcoming arm of the Chamber.  It is a privilege to be a part of this group and it shall be limited in number not to exceed 10% of the membership.\n\nMeetings are held monthly on the second Tuesday from 11:30-1:00 pm.  Locations will vary month to month.\n\nIf you are interested in becoming a Chamber Connector\, please contact our chair: Tiffany Tokarz (tiffany@modernmuseconsulting.com)\n\n\n\nThis month the meeting will be held at: Urbandale Chamber of Commerce RODAN Board Room.
X-ALT-DESC;FMTTYPE=text/html:<p>PLEASE NOTE! &nbsp\;This month\, the meeting is being rescheduled to this date due to a conflict on our typcial&nbsp\;2nd Tuesday. &nbsp\;Thank you.&nbsp\;<br />\n<br />\nConnectors promote and support the role of the Urbandale Chamber of Commerce as the welcoming arm of the Chamber.&nbsp\; It is a privilege to be a part of this group and it shall be limited in number not to exceed 10% of the membership.</p>\n\n<p>Meetings are held monthly on the second Tuesday from 11:30-1:00 pm.&nbsp\; Locations will vary month to month.</p>\n\n<p>If you are interested in becoming a Chamber Connector\, please contact our chair: Tiffany Tokarz (tiffany@modernmuseconsulting.com<a class="lnkNormalOvr" context="emailMenuTwo" email="jenice.whisenand@servicelegends.net" href="javascript:void(0)" jquery162028675680292533584="135" memid="3096" repid="5213">)</a><br />\n<br />\nThis month the meeting will be held at: Urbandale Chamber of Commerce RODAN Board Room.&nbsp\;<span _fck_bookmark="1" style="display: none">&nbsp\;</span></p>\n
LOCATION:Urbandale Chamber of Commerce RODAN Board Room.
UID:e.1185.4003
SEQUENCE:3
DTSTAMP:20260420T100728Z
URL:http://getaquote-mobile.uniquelyurbandale.com/events/details/connector-meeting-11-09-2015-4003
END:VEVENT

END:VCALENDAR
