BEGIN:VCALENDAR
VERSION:2.0
PRODID:-//ChamberMaster//Event Calendar 2.0//EN
METHOD:PUBLISH
X-PUBLISHED-TTL:P3D
REFRESH-INTERVAL:P3D
CALSCALE:GREGORIAN
BEGIN:VEVENT
DTSTART:20200311T163000Z
DTEND:20200311T180000Z
X-MICROSOFT-CDO-ALLDAYEVENT:FALSE
SUMMARY:Connector Meeting
DESCRIPTION:If you are interested in becoming a Chamber Connector\, please contact our chair: Jay Mathes (welcomelg@edencrestliving.com).\n\n\n\nConnectors promote and support the role of the Urbandale Chamber of Commerce as the welcoming arm of the Chamber.  It is a privilege to be a part of this group and it shall be limited in number not to exceed 10% of the membership.\n\nMeetings are held monthly on the second Tuesday from 11:30-1:00 pm.  Locations will vary from month to month.\n\nThis month\, the meeting will be held at Bordenaro's Pizzeria!\n\n\n\nOur Featured Connectors are:   Christine Barrows & Linda Franker
X-ALT-DESC;FMTTYPE=text/html:<p><span style="font-size: 10pt\;">If you are interested in becoming a Chamber Connector\, please contact our chair: Jay Mathes&nbsp\;(<a href="mailto:welcomelg@edencrestliving.com">welcomelg@edencrestliving.com</a>).<br />\n<br />\nConnectors promote and support the role of the Urbandale Chamber of Commerce as the welcoming arm of the Chamber.&nbsp\; It is a privilege to be a part of this group and it shall be limited in number not to exceed 10% of the membership.</span></p>\n\n<p><span style="font-size: 10pt\;">Meetings are held monthly on the second Tuesday from 11:30-1:00 pm.&nbsp\; Locations will vary from month to month.</span></p>\n\n<p><span style="font-size: 10pt\;">This month\, the meeting will be held at&nbsp\;<a href="https://bordenarospizza.com/"><span style="color:#006400\;"><span style="font-size: 16px\;">Bordenaro&#39\;s Pizzeria!</span></span></a></span><br />\n<br />\n<u font-size:="" style="color: rgb(51\, 51\, 51)\; font-family: sans-serif\, Arial\, Verdana\, " trebuchet=""><strong>Our Featured Connectors are:</strong></u><strong font-size:="" style="color: rgb(51\, 51\, 51)\; font-family: sans-serif\, Arial\, Verdana\, " trebuchet="">&nbsp\; &nbsp\;</strong><strong font-size:="" style="color: rgb(51\, 51\, 51)\; font-family: sans-serif\, Arial\, Verdana\, " trebuchet="">Christine Barrows &amp\; Linda Franker</strong></p>\n
LOCATION:Bordenaro's Pizzeria 6108 SW 9th Street Des Moines\, IA 50315
UID:e.1185.10463
SEQUENCE:3
DTSTAMP:20260423T185356Z
URL:http://getaquote-mobile.uniquelyurbandale.com/events/details/connector-meeting-10463
END:VEVENT

END:VCALENDAR
