BEGIN:VCALENDAR
VERSION:2.0
PRODID:-//ChamberMaster//Event Calendar 2.0//EN
METHOD:PUBLISH
X-PUBLISHED-TTL:P3D
REFRESH-INTERVAL:P3D
CALSCALE:GREGORIAN
BEGIN:VEVENT
DTSTART:20140715T163000Z
DTEND:20140715T180000Z
X-MICROSOFT-CDO-ALLDAYEVENT:FALSE
SUMMARY:Connector Meeting
DESCRIPTION:Connectors promote and support the role of the Urbandale Chamber of Commerce as the welcoming arm of the Chamber.  It is a privilege to be a part of this group and it shall be limited in number not to exceed 10% of the membership.\n\nMeetings are held monthly on the second Tuesday from 11:30-1:00 pm.  Locations will vary month to month.\n\nIf you are interested in becoming a Chamber Connector\, please contact our chair: David Russell (DRussell@arpclaw.com)\n\n\n\nConnector please note! This is a SPECIAL meeting this month joint with the East/South Chamber Ambassadors and special guest\, Callista Gould with Culture and Manners Institute.  Join us to meet some new people and learn some great tips from Callista!  The meeting will be held at the Botanical Gardens in the Walsh Room.  Hy-Vee will be providing a cold buffet that includes: cocktail sandwiches\, Caesar Salad & BLT Pasta\, drink and a cookie.  The cost for lunch is $15.  If you would like to be included\, please let Jeana know by Tuesday\, July 8th by 9:00 am. \n\n\n\nHope you can attend!
X-ALT-DESC;FMTTYPE=text/html:<span style="font-size:12px\;"><span style="font-family:arial\;">Connectors promote and support the role of the&nbsp\;Urbandale&nbsp\;Chamber of Commerce as the welcoming arm of the Chamber.&nbsp\; It is a privilege to be a part of this group and it shall be limited in number not to exceed 10% of the membership.<br />\nMeetings are held monthly on the second Tuesday from 11:30-1:00 pm.&nbsp\; Locations will vary month to month.<br />\nIf you are interested in becoming a Chamber Connector\, please contact our chair: David Russell (DRussell@arpclaw.com)<br />\n<br />\nConnector please note! This is a SPECIAL meeting this month joint with the East/South Chamber Ambassadors and special guest\, Callista Gould with&nbsp\;Culture and Manners Institute. &nbsp\;Join us to meet some new people and learn some great tips from Callista! &nbsp\;The meeting will be held at the Botanical Gardens in the Walsh Room. &nbsp\;Hy-Vee will be providing a cold buffet that includes: cocktail sandwiches\, Caesar Salad &amp\; BLT Pasta\, drink and a cookie. &nbsp\;The cost for lunch is $15. &nbsp\;If you would like to be included\, please let Jeana know by Tuesday\, July 8th&nbsp\;by 9:00 am.&nbsp\;<br />\n<br />\nHope you can attend!</span></span>
LOCATION:
UID:e.1185.2908
SEQUENCE:3
DTSTAMP:20260419T152630Z
URL:http://getaquote-mobile.uniquelyurbandale.com/events/details/connector-meeting-07-15-2014-2908
END:VEVENT

END:VCALENDAR
