BEGIN:VCALENDAR
VERSION:2.0
PRODID:-//ChamberMaster//Event Calendar 2.0//EN
METHOD:PUBLISH
X-PUBLISHED-TTL:P3D
REFRESH-INTERVAL:P3D
CALSCALE:GREGORIAN
BEGIN:VEVENT
DTSTART:20140211T173000Z
DTEND:20140211T190000Z
X-MICROSOFT-CDO-ALLDAYEVENT:FALSE
SUMMARY:Connector Meeting
DESCRIPTION:Connectors promote and support the role of the Urbandale Chamber of Commerce as the welcoming arm of the Chamber.  It is a privilege to be a part of this group and it shall be limited in number not to exceed 10% of the membership.\n\n	Meetings are held monthly on the second Tuesday from 11:30-1:00 pm.  Locations will vary month to month.\n\n	If you are interested in becoming a Chamber Connector\, please contact our chair: David Russell (DRussell@arpclaw.com)\n\n	\n\n	This month the meeting will be held at: Sam and Gabes ( 8631 Hickman Rd.\, Urbandale)
X-ALT-DESC;FMTTYPE=text/html:<p>\n	Connectors promote and support the role of the&nbsp\;Urbandale&nbsp\;Chamber of Commerce as the welcoming arm of the Chamber.&nbsp\; It is a privilege to be a part of this group and it shall be limited in number not to exceed 10% of the membership.</p>\n<p>\n	Meetings are held monthly on the second Tuesday from 11:30-1:00 pm.&nbsp\; Locations will vary month to month.</p>\n<p>\n	If you are interested in becoming a Chamber Connector\, please contact our chair: David Russell (DRussell@arpclaw.com)<br />\n	<br />\n	This month the meeting will be held at:&nbsp\;Sam and&nbsp\;Gabes&nbsp\;(&#8203\;8631 Hickman Rd.\, Urbandale)</p>\n
LOCATION:Sam and Gabes ( 8631 Hickman Rd.\, Urbandale)
UID:e.1185.2903
SEQUENCE:3
DTSTAMP:20260419T222137Z
URL:http://getaquote-mobile.uniquelyurbandale.com/events/details/connector-meeting-02-11-2014-2903
END:VEVENT

END:VCALENDAR
