BEGIN:VCALENDAR
VERSION:2.0
PRODID:-//ChamberMaster//Event Calendar 2.0//EN
METHOD:PUBLISH
X-PUBLISHED-TTL:P3D
REFRESH-INTERVAL:P3D
CALSCALE:GREGORIAN
BEGIN:VEVENT
DTSTART:20170620T000000Z
DTEND:20170620T010000Z
X-MICROSOFT-CDO-ALLDAYEVENT:FALSE
SUMMARY:Concert in the Park
DESCRIPTION:The Urbandale Community Adult Band has an open air concert in the Lion's Park gazebo! Bring your lawn chairs and family and friends to enjoy summer music in the park. Every Monday evening in June.
X-ALT-DESC;FMTTYPE=text/html:The Urbandale Community Adult Band has an open air concert in the Lion&#39\;s Park gazebo! Bring your lawn chairs and family and friends to enjoy summer music in the park. Every Monday evening in June.
LOCATION:Lion's Park Gazebo
UID:e.1185.6568
SEQUENCE:3
DTSTAMP:20260421T132322Z
URL:http://getaquote-mobile.uniquelyurbandale.com/events/details/concert-in-the-park-6568
END:VEVENT

END:VCALENDAR
