BEGIN:VCALENDAR
VERSION:2.0
PRODID:-//ChamberMaster//Event Calendar 2.0//EN
METHOD:PUBLISH
X-PUBLISHED-TTL:P3D
REFRESH-INTERVAL:P3D
CALSCALE:GREGORIAN
BEGIN:VEVENT
DTSTART:20170627T000000Z
DTEND:20170627T010000Z
X-MICROSOFT-CDO-ALLDAYEVENT:FALSE
SUMMARY:Concert in the Park
DESCRIPTION:The Urbandale Community Adult Band - Swing Band will play a concert in the Lion's Park Gazebo. Bring a lawn chair and family and friends to enjoy open air music in the park.
X-ALT-DESC;FMTTYPE=text/html:The Urbandale Community Adult Band - Swing Band will play a concert in the Lion&#39\;s Park Gazebo. Bring a lawn chair and family and friends to enjoy open air music in the park.
LOCATION:Lion's Park Gazebo
UID:e.1185.6570
SEQUENCE:3
DTSTAMP:20260421T132445Z
URL:http://getaquote-mobile.uniquelyurbandale.com/events/details/concert-in-the-park-06-26-2017-6570
END:VEVENT

END:VCALENDAR
