BEGIN:VCALENDAR
VERSION:2.0
PRODID:-//ChamberMaster//Event Calendar 2.0//EN
METHOD:PUBLISH
X-PUBLISHED-TTL:P3D
REFRESH-INTERVAL:P3D
CALSCALE:GREGORIAN
BEGIN:VEVENT
DTSTART:20170613T000000Z
DTEND:20170613T010000Z
X-MICROSOFT-CDO-ALLDAYEVENT:FALSE
SUMMARY:Concert in the Park
DESCRIPTION:The Urbandale Community Adult Band - Swing Band will play a concert in the Lion's Park gazebo. Bring a lawn chair and friends and family for open air music in the park.
X-ALT-DESC;FMTTYPE=text/html:The Urbandale Community Adult Band - Swing Band will play a concert in the Lion&#39\;s Park gazebo. Bring a lawn chair and friends and family for open air music in the park.
LOCATION:Lion's Park Gazebo
UID:e.1185.6569
SEQUENCE:3
DTSTAMP:20260421T132454Z
URL:http://getaquote-mobile.uniquelyurbandale.com/events/details/concert-in-the-park-06-12-2017-6569
END:VEVENT

END:VCALENDAR
