BEGIN:VCALENDAR
VERSION:2.0
PRODID:-//ChamberMaster//Event Calendar 2.0//EN
METHOD:PUBLISH
X-PUBLISHED-TTL:P3D
REFRESH-INTERVAL:P3D
CALSCALE:GREGORIAN
BEGIN:VEVENT
DTSTART:20190824T140000Z
DTEND:20190824T180000Z
X-MICROSOFT-CDO-ALLDAYEVENT:FALSE
SUMMARY:Community Youth Concepts' 10th Annual Sidewalk Chalk Flood
DESCRIPTION:Join us for CYC's 10th Annual Sidewalk Chalk Flood on Saturday\, August 24th at the Charles Gabus Memorial Tree Park! We'll have art\, crafts\, games\, music\, food\, and more as we decorate the sidewalks with chalk art! This is a free\, family-friendly event for all ages! For more information contact Alicia at alicia@cyconcepts.org.
X-ALT-DESC;FMTTYPE=text/html:Join us for CYC&#39\;s 10th Annual Sidewalk Chalk Flood on Saturday\, August 24th at the Charles Gabus Memorial Tree Park! We&#39\;ll have art\, crafts\, games\, music\, food\, and more as we decorate the sidewalks with chalk art! This is a free\, family-friendly event for all ages! For more information contact Alicia at alicia@cyconcepts.org.
LOCATION:Charles Gabus Memorial Tree Park Urbandale\, IA 50322
UID:e.1185.10274
SEQUENCE:3
DTSTAMP:20260423T074825Z
URL:http://getaquote-mobile.uniquelyurbandale.com/events/details/community-youth-concepts-10th-annual-sidewalk-chalk-flood-10274
END:VEVENT

END:VCALENDAR
