BEGIN:VCALENDAR
VERSION:2.0
PRODID:-//ChamberMaster//Event Calendar 2.0//EN
METHOD:PUBLISH
X-PUBLISHED-TTL:P3D
REFRESH-INTERVAL:P3D
CALSCALE:GREGORIAN
BEGIN:VEVENT
DTSTART:20160507T180000Z
DTEND:20160507T203000Z
X-MICROSOFT-CDO-ALLDAYEVENT:FALSE
SUMMARY:Community Spring Plant Sale
DESCRIPTION:Rolling Green Elementary in Urbandale will host a community spring plant sale on Saturday\, May 7\, 1:00 p.m. - 3:30 p.m.\, at Rolling Green Elementary\, located at 8100 Airline Ave. in Urbandale. Hanging baskets\, colorful bowls of flowers\, flowers for your planters\, bedding plants\, and herb and salad bowls will be available. Proceeds go toward supporting project-based learning at Rolling Green.
X-ALT-DESC;FMTTYPE=text/html:Rolling Green Elementary in Urbandale will host a community spring plant sale on Saturday\, May 7\, 1:00 p.m. - 3:30 p.m.\, at Rolling Green Elementary\, located at 8100 Airline Ave. in Urbandale. Hanging baskets\, colorful bowls of flowers\, flowers for your planters\, bedding plants\, and herb and salad bowls will be available. Proceeds go toward supporting project-based learning at Rolling Green.
LOCATION:Rolling Green Elementary School 8100 Airline Ave Urbandale\, IA 50322
UID:e.1185.4794
SEQUENCE:3
DTSTAMP:20260420T195703Z
URL:http://getaquote-mobile.uniquelyurbandale.com/events/details/community-spring-plant-sale-05-07-2016-4794
END:VEVENT

END:VCALENDAR
