BEGIN:VCALENDAR
VERSION:2.0
PRODID:-//ChamberMaster//Event Calendar 2.0//EN
METHOD:PUBLISH
X-PUBLISHED-TTL:P3D
REFRESH-INTERVAL:P3D
CALSCALE:GREGORIAN
BEGIN:VEVENT
DTSTART:20160922T210000Z
DTEND:20160922T220000Z
X-MICROSOFT-CDO-ALLDAYEVENT:FALSE
SUMMARY:Community Conversations on Careers: TedTalk Screening and Discussion
DESCRIPTION:Join Goodwill's Career Connection Center in collaboration with the community libraries to discuss careers in our community! \n\nWatch a brief TedTalk and then participate in the group discussion following\, facilitated by Community Celebrities. This event is free and open to the public!\n\n\n\nThis event will be facilitated by Emmy award-winning journalist Emily Price and the TedTalk screened will be: Success\, Failure and the Drive to Keep Creating by Elizabeth Gilbert. Come for conversation and networking with local employers\, nonprofits\, and community members at the Johnston Public Library
X-ALT-DESC;FMTTYPE=text/html:<span style="background-color:rgb(255\, 255\, 255)\; color:rgb(75\, 79\, 86)\; font-family:helvetica\,arial\,sans-serif\; font-size:14px">Join Goodwill&#39\;s Career Connection Center in collaboration with the community libraries to discuss careers in our community!&nbsp\;</span><br />\n<span style="background-color:rgb(255\, 255\, 255)\; color:rgb(75\, 79\, 86)\; font-family:helvetica\,arial\,sans-serif\; font-size:14px">Watch a brief TedTalk and then participate in the group discussion following\, facilitated by Community Celebrities. This event is free and open to the public!</span><br />\n<br />\n<span style="background-color:rgb(255\, 255\, 255)\; color:rgb(75\, 79\, 86)\; font-family:helvetica\,arial\,sans-serif\; font-size:14px">This event will be facilitated by Emmy award-winning journalist&nbsp\;</span><a href="https://www.facebook.com/emily.kcci" style="color: rgb(54\, 88\, 153)\; cursor: pointer\; text-decoration: none\; font-family: helvetica\, arial\, sans-serif\; font-size: 14px\; line-height: 18.76px\; background-color: rgb(255\, 255\, 255)\;">Emily Price</a>&nbsp\;<span style="background-color:rgb(255\, 255\, 255)\; color:rgb(75\, 79\, 86)\; font-family:helvetica\,arial\,sans-serif\; font-size:14px">and the TedTalk screened will be: Success\, Failure and the Drive to Keep Creating by Elizabeth Gilbert. Come for conversation and networking with local employers\, nonprofits\, and community members at the&nbsp\;</span><a href="https://www.facebook.com/johnstonpubliclibrary/" style="color: rgb(54\, 88\, 153)\; cursor: pointer\; text-decoration: none\; font-family: helvetica\, arial\, sans-serif\; font-size: 14px\; line-height: 18.76px\; background-color: rgb(255\, 255\, 255)\;">Johnston Public Library</a>
LOCATION:Johnston Public Library\, 6700 Merle Hay Road\, Johnston\, IA 50131
UID:e.1185.4909
SEQUENCE:3
DTSTAMP:20260421T003331Z
URL:http://getaquote-mobile.uniquelyurbandale.com/events/details/community-conversations-on-careers-tedtalk-screening-and-discussion-4909
END:VEVENT

END:VCALENDAR
