BEGIN:VCALENDAR
VERSION:2.0
PRODID:-//ChamberMaster//Event Calendar 2.0//EN
METHOD:PUBLISH
X-PUBLISHED-TTL:P3D
REFRESH-INTERVAL:P3D
CALSCALE:GREGORIAN
BEGIN:VEVENT
DTSTART:20170127T153000Z
DTEND:20170127T163000Z
X-MICROSOFT-CDO-ALLDAYEVENT:FALSE
SUMMARY:Coffee for Realtors
DESCRIPTION:We want to help you sell homes. How can an interior designer help you sell a home? Lots of ways! A home with outdated d cor can be a deal-breaker for many homebuyers. Finding a way to bridge the gap between a clients' reluctance to tackle a re-design\, while showing them the potential for what a home can be\, is where we come in. Please join us for coffee and refreshments at our design studio to discuss ways in which R. Cartwright Design can partner with you to add value to your real estate business. R. Cartwright Design 2005 NW 100th St Clive\, IA 50325 (across from the Willis Auto Campus) Please RSVP to 515-309-5006 or rcartwrightdsgn@gmail.com by Jan. 25.
X-ALT-DESC;FMTTYPE=text/html:We want to help you sell homes. How can an interior designer help you sell a home? Lots of ways! A home with outdated d&eacute\;cor can be a deal-breaker for many homebuyers. Finding a way to bridge the gap between a clients&rsquo\; reluctance to tackle a re-design\, while showing them the potential for what a home can be\, is where we come in. Please join us for coffee and refreshments at our design studio to discuss ways in which R. Cartwright Design can partner with you to add value to your real estate business. R. Cartwright Design 2005 NW 100th St Clive\, IA 50325 (across from the Willis Auto Campus) Please RSVP to 515-309-5006 or rcartwrightdsgn@gmail.com by Jan. 25.
LOCATION:R. Cartwright Design 2005 NW 100th St Clive\, IA 50325 (across from the Willis Auto Campus)
UID:e.1185.5119
SEQUENCE:3
DTSTAMP:20260421T064416Z
URL:http://getaquote-mobile.uniquelyurbandale.com/events/details/coffee-for-realtors-5119
END:VEVENT

END:VCALENDAR
