BEGIN:VCALENDAR
VERSION:2.0
PRODID:-//ChamberMaster//Event Calendar 2.0//EN
METHOD:PUBLISH
X-PUBLISHED-TTL:P3D
REFRESH-INTERVAL:P3D
CALSCALE:GREGORIAN
BEGIN:VEVENT
DTSTART:20170709T010000Z
DTEND:20170709T050000Z
X-MICROSOFT-CDO-ALLDAYEVENT:FALSE
SUMMARY:Christmas in July Full Moon Ride
DESCRIPTION:Des Moines European Heritage Association (DMEHA) is partnering with Flat Tire Lounge\, Nite Hawk Bar & Grill\, and Whistlin' Donkey Sports Bar and Grill for an evening ride along the High Trestle Trail on July 8 from 8pm   midnight. Riding in either direction\, stop at each of these participating bars to enjoy live music\, European games\, Christmas decorations and a costume contest. Participate in the European games and your donation will go to support DMEHA's production of Christkindlmarket Des Moines. Get your team together and come out for a great time and to support our annual community event.
X-ALT-DESC;FMTTYPE=text/html:Des Moines European Heritage Association (DMEHA) is partnering with Flat Tire Lounge\, Nite Hawk Bar &amp\; Grill\, and Whistlin&#39\; Donkey Sports Bar and Grill for an evening ride along the High Trestle Trail on July 8 from 8pm &ndash\; midnight. Riding in either direction\, stop at each of these participating bars to enjoy live music\, European games\, Christmas decorations and a costume contest. Participate in the European games and your donation will go to support DMEHA&rsquo\;s production of Christkindlmarket Des Moines. Get your team together and come out for a great time and to support our annual community event.
LOCATION:High Trestle Trail
UID:e.1185.5189
SEQUENCE:3
DTSTAMP:20260421T150328Z
URL:http://getaquote-mobile.uniquelyurbandale.com/events/details/christmas-in-july-full-moon-ride-5189
END:VEVENT

END:VCALENDAR
