BEGIN:VCALENDAR
VERSION:2.0
PRODID:-//ChamberMaster//Event Calendar 2.0//EN
METHOD:PUBLISH
X-PUBLISHED-TTL:P3D
REFRESH-INTERVAL:P3D
CALSCALE:GREGORIAN
BEGIN:VEVENT
DTSTART:20180724T223000Z
DTEND:20180725T000000Z
X-MICROSOFT-CDO-ALLDAYEVENT:FALSE
SUMMARY:Christmas in July
DESCRIPTION:Baby it's warm outside and we are getting holly jolly in July! Wear your festive holiday (summer) attire and join us for frozen hot chocolate\, festive bites and enjoy some reindeer games on our veranda.
X-ALT-DESC;FMTTYPE=text/html:Baby it&rsquo\;s warm outside and we are getting holly jolly in July! Wear your festive holiday (summer) attire and join us for frozen hot chocolate\, festive bites and enjoy some reindeer games on our veranda.
LOCATION:Hotel Renovo 11167 Hickman Rd-Urbandale
UID:e.1185.8286
SEQUENCE:3
DTSTAMP:20260422T085649Z
URL:http://getaquote-mobile.uniquelyurbandale.com/events/details/christmas-in-july-8286
END:VEVENT

END:VCALENDAR
