BEGIN:VCALENDAR
VERSION:2.0
PRODID:-//ChamberMaster//Event Calendar 2.0//EN
METHOD:PUBLISH
X-PUBLISHED-TTL:P3D
REFRESH-INTERVAL:P3D
CALSCALE:GREGORIAN
BEGIN:VEVENT
DTSTART:20170418T223000Z
DTEND:20170419T003000Z
X-MICROSOFT-CDO-ALLDAYEVENT:FALSE
SUMMARY:Christkindlmarket DSM Mug Unveiling Party
DESCRIPTION:Be one of the first to view Christkindlmarket Des Moines' 2017 Gl hwein mug design at Jasper Winery on Tuesday\, April 18 from 5:30 to 7:30 p.m. Sip the signature drink (warm mulled wine) while shopping a mini market featuring foods and handcrafted items from Christkindlmarket Des Moines 2017 vendors. Other Jasper wines and Madhouse beer will also be available for purchase. The first 25 attendees to donate $25 (or more) to guarantee their 2017 mug will receive a goody bag. A limited quantity of commemorative mugs are ordered each year. The mug design will be revealed at 6:30 p.m. Feeling festive? Bring your own Gl hwein mug (0.2 liters) from a past Christmas market. Admission is free\; donations accepted. Andy Klindt - Demonstrating forged metal winestoppers Worldly Goods Three Smooth Stones The Permanent Collection Letterpress Indianola Glass Creations - Demonstrating cutting wine bottles for making wine bottle tealights outdoors) Jett and Monkey's Chocolaterie Stam Sugarplums (Lebkuchen!) Mucky Duck
X-ALT-DESC;FMTTYPE=text/html:Be one of the first to view Christkindlmarket Des Moines&rsquo\; 2017 Gl&uuml\;hwein mug design at Jasper Winery on Tuesday\, April 18 from 5:30 to 7:30 p.m. Sip the signature drink (warm mulled wine) while shopping a mini market featuring foods and handcrafted items from Christkindlmarket Des Moines 2017 vendors. Other Jasper wines and Madhouse beer will also be available for purchase. The first 25 attendees to donate $25 (or more) to guarantee their 2017 mug will receive a goody bag. A limited quantity of commemorative mugs are ordered each year. The mug design will be revealed at 6:30 p.m. Feeling festive? Bring your own Gl&uuml\;hwein mug (0.2 liters) from a past Christmas market. Admission is free\; donations accepted. Andy Klindt - Demonstrating forged metal winestoppers Worldly Goods Three Smooth Stones The Permanent Collection Letterpress Indianola Glass Creations - Demonstrating cutting wine bottles for making wine bottle tealights outdoors) Jett and Monkey&rsquo\;s Chocolaterie Stam Sugarplums (Lebkuchen!) Mucky Duck
LOCATION:Jasper Winery
UID:e.1185.5173
SEQUENCE:3
DTSTAMP:20260421T103835Z
URL:http://getaquote-mobile.uniquelyurbandale.com/events/details/christkindlmarket-dsm-mug-unveiling-party-5173
END:VEVENT

END:VCALENDAR
