BEGIN:VCALENDAR
VERSION:2.0
PRODID:-//ChamberMaster//Event Calendar 2.0//EN
METHOD:PUBLISH
X-PUBLISHED-TTL:P3D
REFRESH-INTERVAL:P3D
CALSCALE:GREGORIAN
BEGIN:VEVENT
DTSTART;VALUE=DATE:20161202
DTEND;VALUE=DATE:20161205
TRANSP:TRANSPARENT
X-MICROSOFT-CDO-ALLDAYEVENT:TRUE
SUMMARY:Christkindlmarket Des Moines
DESCRIPTION:Experience a German-inspired Christmas Market at Cowles Commons in the heart of Downtown Des Moines. The history of Christmas markets goes back to the Late Middle Ages in the German-speaking part of Europe. Munich held its first Christmas market in 1310\, over 700 years ago! Www.christkindlmarketdsm.com https://www.facebook.com/events/761446450654899/ Visit vendors selling old-world\, hand-crafted products from traditional wooden vendor stalls\; enjoy polka music\, traditional dance and choirs on the entertainment stage\; have your kids visit the KinderKorner to hear storytelling or sing songs in another language\; sip Gl hwein (warm\, mulled wine) or a European-style Iowa craft beer. Christkindlmarket Des Moines is produced by Des Moines European Heritage Association\, a 501(c)3\, tax-exempt non-profit. This event is free and open to the public. Dates and times are as follows: Friday\, December 2: 11am   11pm Saturday\, December 3: 11am   10pm Sunday\, December 4: 11am   5pm
X-ALT-DESC;FMTTYPE=text/html:Experience a German-inspired Christmas Market at Cowles Commons in the heart of Downtown Des Moines. The history of Christmas markets goes back to the Late Middle Ages in the German-speaking part of Europe. Munich held its first Christmas market in 1310\, over 700 years ago! Www.christkindlmarketdsm.com https://www.facebook.com/events/761446450654899/ Visit vendors selling old-world\, hand-crafted products from traditional wooden vendor stalls\; enjoy polka music\, traditional dance and choirs on the entertainment stage\; have your kids visit the KinderKorner to hear storytelling or sing songs in another language\; sip Gl&uuml\;hwein (warm\, mulled wine) or a European-style Iowa craft beer. Christkindlmarket Des Moines is produced by Des Moines European Heritage Association\, a 501(c)3\, tax-exempt non-profit. This event is free and open to the public. Dates and times are as follows: Friday\, December 2: 11am &ndash\; 11pm Saturday\, December 3: 11am &ndash\; 10pm Sunday\, December 4: 11am &ndash\; 5pm
LOCATION:Cowles Commons
UID:e.1185.4923
SEQUENCE:3
DTSTAMP:20260421T051539Z
URL:http://getaquote-mobile.uniquelyurbandale.com/events/details/christkindlmarket-des-moines-4923
END:VEVENT

END:VCALENDAR
