BEGIN:VCALENDAR
VERSION:2.0
PRODID:-//ChamberMaster//Event Calendar 2.0//EN
METHOD:PUBLISH
X-PUBLISHED-TTL:P3D
REFRESH-INTERVAL:P3D
CALSCALE:GREGORIAN
BEGIN:VEVENT
DTSTART:20151208T173000Z
DTEND:20151208T190000Z
X-MICROSOFT-CDO-ALLDAYEVENT:FALSE
SUMMARY:Chili Holiday Party\, Presented by Midland Credit Union\, for 2015 New Members\, Connectors and Board Members
DESCRIPTION:Thank you to our Presenting Sponsor for New Member Programming\, Midland Credit Union\n\n \n\nIt will be chilly outside\, so why not warm up inside with a Chili Holiday Party?! 2015 Connectors\, Board Members and New Chamber Members (Primary Representatives) are invited to this year-end celebration at on December 8\, 2015 from 11:30 a.m. to 1:00 p.m. at Murphy's Bar and Grill (2675 100th St.\, Urbandale).  Join us to reconnect\, mingle and celebrate the accomplishments of the past year over a chili lunch. Call the Chamber office with any questions\, reservations are required.  Because the Chamber will be charged for your meal\, we ask you let us know 24 hours in advance if you need to cancel your reservation.  Thank you.
X-ALT-DESC;FMTTYPE=text/html:<p style="line-height: 20.7999992370605px\;"><strong>Thank you to our&nbsp\;Presenting Sponsor for New Member Programming\, Midland Credit Union<br />\n&nbsp\;</strong><br />\nIt will be chilly outside\, so why not warm up inside with a Chili Holiday Party?! 2015 Connectors\, Board Members and New Chamber Members (Primary Representatives) are invited to this year-end celebration at&nbsp\;on December 8\, 2015 from 11:30&nbsp\;a.m. to 1:00&nbsp\;p.m. at Murphy&#39\;s Bar and Grill (2675 100th St.\, Urbandale).&nbsp\;&nbsp\;Join us to reconnect\, mingle and celebrate the accomplishments of the past year over a chili lunch. Call the Chamber office with any questions\, reservations are required. &nbsp\;Because the Chamber will be charged for your meal\, we ask you let us know 24 hours in advance if you need to cancel your reservation. &nbsp\;Thank you.</p>\n\n<p><span _fck_bookmark="1" style="display: none">&nbsp\;</span></p>\n
LOCATION:Murphy's Bar and Grill (2675 100th St.\, Urbandale)
UID:e.1185.4004
SEQUENCE:3
DTSTAMP:20260420T114903Z
URL:http://getaquote-mobile.uniquelyurbandale.com/events/details/chili-holiday-party-presented-by-midland-credit-union-for-2015-new-members-connectors-and-board-members-12-08-2015-4004
END:VEVENT

END:VCALENDAR
