BEGIN:VCALENDAR
VERSION:2.0
PRODID:-//ChamberMaster//Event Calendar 2.0//EN
METHOD:PUBLISH
X-PUBLISHED-TTL:P3D
REFRESH-INTERVAL:P3D
CALSCALE:GREGORIAN
BEGIN:VEVENT
DTSTART:20141215T173000Z
DTEND:20141215T190000Z
X-MICROSOFT-CDO-ALLDAYEVENT:FALSE
SUMMARY:Chili Holiday Party - New Members in 2014\, Board Members & Connectors
DESCRIPTION:Thank you to our Presenting Sponsor for New Member Programming\, Sun Tan City - Merle Hay.\n\n \n\nIt will be chilly outside\, so why not warm up inside with a Chili Holiday Party?! 2014 Connectors\, Board Members and New Chamber Members (Primary Representatives) are invited to this year-end celebration at the Urbandale Golf & Country Club on December 15\, 2014 from 11:30 a.m. to 1:00 p.m. Join us to reconnect\, mingle and celebrate the accomplishments of the past year over a chili lunch. Call the Chamber office with any questions\, reservations are required.  Because the Chamber will be charged for your meal\, we ask you let us know 24 hours in advance if you need to cancel your reservation.  Thank you.\n\n\nIf you are interested in becoming a Chamber Connector\, please contact our chair: David Russell (DRussell@arpclaw.com)\n\n\n\nThis  event will be held at: \n\nUrbandale Golf & Country Club\n\n4000 N.W. 86th St.\n\nUrbandale\, IA 50322
X-ALT-DESC;FMTTYPE=text/html:<p><span style="font-family:arial\;"><strong><span style="font-size:12px\;">Thank you to our&nbsp\;</span></strong></span><span style="font-family:times new roman\,serif\;"><span style="font-size:12.0pt\;"><span style="font-family:arial\;"><strong><span style="font-size:12px\;">Presenting Sponsor for New Member Programming\, Sun Tan City - Merle Hay.<br />\n&nbsp\;</span></strong></span></span></span><br />\n<span style="font-family: arial\; font-size: 11px\;">It will be chilly outside\, so why not warm up inside with a Chili Holiday Party?! 2014 Connectors\, Board Members and New Chamber Members (Primary Representatives) are invited to this year-end celebration at the&nbsp\;</span>Urbandale<span style="font-family: arial\; font-size: 11px\;">&nbsp\;Golf &amp\; Country Club on December 15\, 2014 from 11:30&nbsp\;</span>a.m<span style="font-family: arial\; font-size: 11px\;">. to 1:00&nbsp\;</span>p.m<span style="font-family: arial\; font-size: 11px\;">. Join us to reconnect\, mingle and celebrate the accomplishments of the past year over a chili lunch. Call the Chamber office with any questions\, reservations are required. &nbsp\;Because the Chamber will be charged for your meal\, we ask you let us know 24 hours in advance if you need to cancel your reservation. &nbsp\;Thank you.</span></p>\n<br />\n<span style="font-size: 11px\;"><span style="font-family: arial\;">If you are interested in becoming a Chamber Connector\, please contact our chair: David Russell (</span></span>DRussell@arpclaw.com)<br />\n<br />\n<span style="font-size: 11px\;"><span style="font-family: arial\;">This &nbsp\;event&nbsp\;will be held at:&nbsp\;<br />\nUrbandale&nbsp\;Golf &amp\; Country Club<br />\n4000&nbsp\;N.W.&nbsp\;86th&nbsp\;St.<br />\n<span itemprop="addressLocality">Urbandale</span>\,&nbsp\;<span itemprop="addressRegion">IA&nbsp\;</span><span itemprop="postalCode">50322</span></span></span>\n\n<div>&nbsp\;</div>\n
LOCATION:Urbandale Golf & Country Club 4000 N.W. 86th St. Urbandale\, IA 50322
UID:e.1185.2913
SEQUENCE:3
DTSTAMP:20260419T175953Z
URL:http://getaquote-mobile.uniquelyurbandale.com/events/details/chili-holiday-party-new-members-in-2014-board-members-connectors-12-15-2014-2913
END:VEVENT

END:VCALENDAR
