BEGIN:VCALENDAR
VERSION:2.0
PRODID:-//ChamberMaster//Event Calendar 2.0//EN
METHOD:PUBLISH
X-PUBLISHED-TTL:P3D
REFRESH-INTERVAL:P3D
CALSCALE:GREGORIAN
BEGIN:VEVENT
DTSTART:20140225T233000Z
DTEND:20140226T013000Z
X-MICROSOFT-CDO-ALLDAYEVENT:FALSE
SUMMARY:Chamber night with the Iowa Wild
DESCRIPTION:Chamber Night with the Iowa Wild\n\n	Tuesday\, February 25\n\n	Wells Fargo Arena\n\n	Join us for this Iowa Wild game against the Rockford Ice Hogs\, a chance to win exclusive Iowa Wild experiences\, and a complimentary hot dog and soda with each ticket purchase.\n\n	Game Time: 5:35 p.m.\n\n	Ticket price: $15 (includes hot dog and soda)\n\n	*All tickets will be available at Will-Call at the Wells Fargo Arena Box Office on the day of the game (Valid I.D. needed)\n\n	\n\n	For tickets\, click this link:\n\n	http://www.desmoinesmetro.com/en/calendar/chamber_night_with_the_iowa_wild/
X-ALT-DESC;FMTTYPE=text/html:<p style="color: rgb(119\, 119\, 119)\; font-size: 14px\; line-height: 18px\; margin: 0px 0px 18px\; font-family: RobotoCondensed\, Arial\, sans-serif\; background-color: rgb(254\, 254\, 254)\;">\n	<span style="font-size:12px\;"><span style="font-family:arial\;"><span class="blackheading" style="border-style: none\; color: black\; font-weight: bold\;">Chamber Night with the Iowa Wild</span></span></span></p>\n<p style="color: rgb(119\, 119\, 119)\; font-size: 14px\; line-height: 18px\; margin: 0px 0px 18px\; font-family: RobotoCondensed\, Arial\, sans-serif\; background-color: rgb(254\, 254\, 254)\;">\n	<span style="font-size:12px\;"><span style="font-family:arial\;"><em>Tuesday\, February 25</em></span></span></p>\n<p style="color: rgb(119\, 119\, 119)\; font-size: 14px\; line-height: 18px\; margin: 0px 0px 18px\; font-family: RobotoCondensed\, Arial\, sans-serif\; background-color: rgb(254\, 254\, 254)\;">\n	<span style="font-size:12px\;"><span style="font-family:arial\;"><em>Wells Fargo Arena</em></span></span></p>\n<p style="color: rgb(119\, 119\, 119)\; font-size: 14px\; line-height: 18px\; margin: 0px 0px 18px\; font-family: RobotoCondensed\, Arial\, sans-serif\; background-color: rgb(254\, 254\, 254)\;">\n	<span style="font-size:12px\;"><span style="font-family:arial\;">Join us for this Iowa Wild game against the Rockford Ice Hogs\, a chance to win exclusive Iowa Wild experiences\, and a complimentary hot dog and soda with each ticket purchase.</span></span></p>\n<p style="color: rgb(119\, 119\, 119)\; font-size: 14px\; line-height: 18px\; margin: 0px 0px 18px\; font-family: RobotoCondensed\, Arial\, sans-serif\; background-color: rgb(254\, 254\, 254)\;">\n	<span style="font-size:12px\;"><span style="font-family:arial\;"><strong>Game Time:</strong>&nbsp\;5:35 p.m.</span></span></p>\n<p style="color: rgb(119\, 119\, 119)\; font-size: 14px\; line-height: 18px\; margin: 0px 0px 18px\; font-family: RobotoCondensed\, Arial\, sans-serif\; background-color: rgb(254\, 254\, 254)\;">\n	<span style="font-size:12px\;"><span style="font-family:arial\;"><strong>Ticket price:&nbsp\;</strong>$15 (includes hot dog and soda)<br />\n	*All tickets will be available at Will-Call at the Wells Fargo Arena Box Office on the day of the game (Valid I.D. needed)<br />\n	<br />\n	For tickets\, click this link:</span></span></p>\n<p style="color: rgb(119\, 119\, 119)\; font-size: 14px\; line-height: 18px\; margin: 0px 0px 18px\; font-family: RobotoCondensed\, Arial\, sans-serif\; background-color: rgb(254\, 254\, 254)\;">\n	<span style="background-color: rgb(255\, 255\, 255)\; color: rgb(34\, 34\, 34)\; font-family: Arial\, Verdana\, sans-serif\; font-size: 12px\;">http://www.desmoinesmetro.com/en/calendar/chamber_night_with_the_iowa_wild/</span></p>\n
LOCATION:Wells Fargo Arena
UID:e.1185.3823
SEQUENCE:3
DTSTAMP:20260419T222413Z
URL:http://getaquote-mobile.uniquelyurbandale.com/events/details/chamber-night-with-the-iowa-wild-02-25-2014-3823
END:VEVENT

END:VCALENDAR
