BEGIN:VCALENDAR
VERSION:2.0
PRODID:-//ChamberMaster//Event Calendar 2.0//EN
METHOD:PUBLISH
X-PUBLISHED-TTL:P3D
REFRESH-INTERVAL:P3D
CALSCALE:GREGORIAN
BEGIN:VEVENT
DTSTART:20150405T000000Z
DTEND:20150405T020000Z
X-MICROSOFT-CDO-ALLDAYEVENT:FALSE
SUMMARY:Chamber Night with the Iowa Energy
DESCRIPTION:Join us for Chamber Night with the Iowa Energy! All members of all affiliate Chambers in the Metro are invited and encouraged to attend.\n\n\n\nSaturday\, April 4th\n\n7 pm at Wells Fargo Arena\n\n$6 ticket/person\n\n\n\n5:30 pm Pre-Game Event in Restaurant on South End\, 3rd Floor\n\n	$2 Beer (through end of first quarter)\n	Surge Bobblehead Giveaway\n	Acrodunk Halftime Show\n	You could win the chance to tour the Energy Locker Room before the game!\n\nPurchase tickets at www.desmoinesmetro.com/events
X-ALT-DESC;FMTTYPE=text/html:Join us for Chamber Night with the Iowa Energy! All members of all affiliate Chambers in the Metro are invited and encouraged to attend.<br />\n<br />\nSaturday\, April 4th<br />\n7 pm at Wells Fargo Arena<br />\n$6 ticket/person<br />\n<br />\n5:30 pm Pre-Game Event in Restaurant on South End\, 3rd Floor\n<ul>\n	<li>$2 Beer (through end of first quarter)</li>\n	<li>Surge Bobblehead Giveaway</li>\n	<li>Acrodunk Halftime Show</li>\n	<li>You could win the chance to tour the Energy Locker Room before the game!</li>\n</ul>\nPurchase tickets at www.desmoinesmetro.com/events&nbsp\;&nbsp\;&nbsp\;&nbsp\;
LOCATION:Wells Fargo Arena
UID:e.1185.4208
SEQUENCE:3
DTSTAMP:20260419T235440Z
URL:http://getaquote-mobile.uniquelyurbandale.com/events/details/chamber-night-with-the-iowa-energy-04-04-2015-4208
END:VEVENT

END:VCALENDAR
