BEGIN:VCALENDAR
VERSION:2.0
PRODID:-//ChamberMaster//Event Calendar 2.0//EN
METHOD:PUBLISH
X-PUBLISHED-TTL:P3D
REFRESH-INTERVAL:P3D
CALSCALE:GREGORIAN
BEGIN:VEVENT
DTSTART:20140330T000000Z
DTEND:20140330T020000Z
X-MICROSOFT-CDO-ALLDAYEVENT:FALSE
SUMMARY:Chamber Night with the Iowa Energy
DESCRIPTION:Iowa Energy Chamber Night\n\nSaturday\, March 29\n\nWells Fargo Arena\n\nPre-Game Event in Restaurant on South End\, 3rd Floor at 5:30 PM\n\nGame starts at 7:00 p.m.\n\n \n\nTickets are $6.00 and can be purchased through the Greater Des Moines Partnership's website.  http://www.desmoinesmetro.com/en/calendar/iowa_energy_chamber_night/\n\n-$2 Beer\n\n-Hoops for the Cure Night\n\n-Free Thunderstix to the first 1\,000 fans\n\nTickets can be picked up on Saturday\, March 29 at the south entrance main box office.\n\n\n\nFor questions\, contact Katie JohnsonMartin at kmartin@desmoinesmetro.com or 286-4913.
X-ALT-DESC;FMTTYPE=text/html:<p><span style="color:#000000\;">&nbsp\;&#8203\;<span style="font-size: 14px\; font-weight: bold\; background-color: rgb(254\, 254\, 254)\; font-family: RobotoCondensed\, Arial\, sans-serif\; line-height: 18px\;">Iowa Energy Chamber Night</span></span></p>\n\n<p style="color: rgb(119\, 119\, 119)\; font-size: 14px\; line-height: 18px\; margin: 0px 0px 18px\; font-family: RobotoCondensed\, Arial\, sans-serif\; background-color: rgb(254\, 254\, 254)\;"><span style="color:#000000\;"><em>Saturday\, March 29</em></span></p>\n\n<p style="color: rgb(119\, 119\, 119)\; font-size: 14px\; line-height: 18px\; margin: 0px 0px 18px\; font-family: RobotoCondensed\, Arial\, sans-serif\; background-color: rgb(254\, 254\, 254)\;"><span style="color:#000000\;"><em>Wells Fargo Arena</em></span></p>\n\n<p style="color: rgb(119\, 119\, 119)\; font-size: 14px\; line-height: 18px\; margin: 0px 0px 18px\; font-family: RobotoCondensed\, Arial\, sans-serif\; background-color: rgb(254\, 254\, 254)\;"><span style="color:#000000\;">Pre-Game Event in&nbsp\;Restaurant on South End\, 3rd Floor at 5:30 PM<br />\nGame starts at 7:00 p.m.<br />\n&nbsp\;<br />\nTickets are $6.00 and can be purchased through the Greater Des Moines Partnership&#39\;s website. &nbsp\;http://www.desmoinesmetro.com/en/calendar/iowa_energy_chamber_night/</span></p>\n\n<p style="color: rgb(119\, 119\, 119)\; font-size: 14px\; line-height: 18px\; margin: 0px 0px 18px\; font-family: RobotoCondensed\, Arial\, sans-serif\; background-color: rgb(254\, 254\, 254)\;"><span style="color:#000000\;">-$2 Beer</span></p>\n\n<p style="color: rgb(119\, 119\, 119)\; font-size: 14px\; line-height: 18px\; margin: 0px 0px 18px\; font-family: RobotoCondensed\, Arial\, sans-serif\; background-color: rgb(254\, 254\, 254)\;"><span style="color:#000000\;">-Hoops for the Cure Night</span></p>\n\n<p style="color: rgb(119\, 119\, 119)\; font-size: 14px\; line-height: 18px\; margin: 0px 0px 18px\; font-family: RobotoCondensed\, Arial\, sans-serif\; background-color: rgb(254\, 254\, 254)\;"><span style="color:#000000\;">-Free Thunderstix to the first 1\,000 fans</span></p>\n\n<p style="color: rgb(119\, 119\, 119)\; font-size: 14px\; line-height: 18px\; margin: 0px 0px 18px\; font-family: RobotoCondensed\, Arial\, sans-serif\; background-color: rgb(254\, 254\, 254)\;"><span style="color:#000000\;">Tickets can be picked up on Saturday\, March 29 at the south entrance main box office.<br />\n<br />\nFor questions\, contact Katie JohnsonMartin&nbsp\;at kmartin@desmoinesmetro.com or 286-4913.</span></p>\n
LOCATION:Wells Fargo
UID:e.1185.3866
SEQUENCE:3
DTSTAMP:20260419T193351Z
URL:http://getaquote-mobile.uniquelyurbandale.com/events/details/chamber-night-with-the-iowa-energy-03-29-2014-3866
END:VEVENT

END:VCALENDAR
